Workbook
Name T開始年度: 入力規則等!$Y$2:$Y$95
Name T行政事業レビュー推進チームの所見: [1]入力規則等!$AC$2:$AC$6
Name T行政事業レビュー推進チームの所見: 入力規則等!$AC$2:$AC$6
Name T事業番号: [1]入力規則等!$U$2:$U$4
Name T事業番号: 入力規則等!$U$2:$U$4
Name T終了年度: [1]入力規則等!$AA$2:$AA$32
Name T終了年度: 入力規則等!$AA$2:$AA$32
Name T所見を踏まえた改善点: [1]入力規則等!$AE$2:$AE$7
Name T所見を踏まえた改善点: 入力規則等!$AE$2:$AE$7
Name T省庁: [1]入力規則等!$W$2:$W$25
Name T省庁: 入力規則等!$W$2:$W$25

Sheet 行政事業レビューシート
X2: 事業番号 | AD2: 2022 | AI2: - | AJ2: 経産 | AN2: - | AO2: 21 | AR2: - | AS2: 131 | AV2: =IF(AW2="","","-")
A3: 令和4年度行政事業レビューシート（試行版） | AI3: （ | AJ3: 経済産業省 | AX3: ）
A4: 事業名 | G4: 中小企業･小規模事業者ワンストップ総合支援事業 | Y4: 担当部局庁 | AE4: 中小企業庁 | AQ4: 作成責任者
A5: 事業開始年度 | G5: 平成26年度 | M5: 事業終了 （予定）年度 | S5: 令和5年度 | Y5: 担当課室 | AE5: 経営支援課 | AQ5: 課長 松井 拓郎
A6: 会計区分 | G6: 一般会計
A7: 根拠法令 （具体的な 条項も記載） | G7: ― | Y7: 関係する 計画、通知等 | AE7: 日本再興戦略（平成25年6月14日閣議決定） 「好循環実現のための経済対策」（平成25年12月5日閣議決定） 日本再興戦略 改訂 2014 (平成26年6月24日閣議決定) 小規模企業振興基本計画(平成26年10月3日閣議決定) サービス産業チャレンジプログラム（平成27年4月15日 日本再生本部決定） 知的財産推進計画（平成28年5月9日 知的財産戦略本部決定） 日本再興戦略 改訂 2015 （平成27年6月30日閣議決定） 日本再興戦略 改訂 2016 （平成28年6月2日閣議決定） ニッポン一億総活躍プラン （平成28年6月2日閣議決定） 未来投資戦略2017 （平成29年6月9日閣議決定） 経済財政運営と改革の基本方針2017 （平成29年6月9日閣議決定） 新しい経済政策パッケージ（平成29年12月8日閣議決定） 未来投資戦略2018 （平成30年6月15日閣議決定） 小規模企業振興基本計画（第Ⅱ期）（令和元年6月18日閣議決定） 経済財政運営と改革の基本方針2021（令和3年6月18日閣議決定） 成長戦略実行計画（令和3年6月18日閣議決定） 成長戦略フォローアップ（令和3年6月18日閣議決定） まち・ひと・しごと創生基本方針2021（令和3年6月18日閣議決定） 知的財産推進計画2021(令和3年7月13日知的財産戦略本部決定）
A8: 主要政策・施策 | Y8: 主要経費 | AE8: 中小企業対策
A9: 事業の目的 （3行程度以内） | G9: 中小企業・小規模事業者等が抱える様々な経営課題に対応するための相談体制を整備することによって、その解決を支援し、地域経済を活性化することを目指す。
A10: 現状・課題 （現状把握・課題(可能な限り定量データを記載）） | G10: 中小企業・小規模事業者、特に小規模事業者は規模の大きい企業に比べて資金面の余裕が乏しいことや情報の非対称性・取引コストの問題により、民間コンサルティング会社やその他専門家等による経営支援が必ずしも進んでいない。このため、特に小規模事業者を対象とした支援はビジネスベースでは成り立たず、公的機関がその支援を実施していくとともに、ある程度の規模を有する中小企業には適切な民間支援機関の有料支援を受けるよう促していくような環境整備をしていく必要がある。 例えば、中小企業・小規模事業者は成果を出すまで伴走してくれる適切な支援者に出会うのが難しいというボトルネックを抱えており、中小企業と支援者のマッチング・支援者間の連携等に関して、新型コロナウイルス感染拡大を契機とした中小企業のデジタル化の浸透を踏まえ、デジタルツールなども活用しながら効果的・効率的に実施する必要がある。特に事業承継の増加に伴う成長意欲の高い後継者の増加や、新型コロナウイルス流行を契機とした事業再構築やDXに取り組む企業の増加を踏まえ、当該企業の経営者が活用しやすいツール（スマートフォン）を用いたわかりやすい見える化（レーティング・口コミ・実績表示等）によるマッチングが求められている。
A11: 事業概要 （5行程度以内。別添可） | G11: 中小企業・小規模事業者等が抱える様々な経営課題に対応するワンストップ相談窓口として、各都道府県に「よろず支援拠点」を設置することで、経営課題の解決に向けた支援を実施する。 また、よろず支援拠点や商工会・商工会議所等では解決困難な課題に対して、それぞれの課題に対応した専門家を派遣し、その解決を支援することで、地域の支援機関の側面支援を行うとともに、中小企業･小規模事業者における専門家の活用意識を醸成する。 さらに、新型コロナウイルス感染拡大を契機に中小企業におけるデジタル化が進んでいるところ、オンラインで個社に適した支援者等が見つかる仕組みや支援者間連携による経営支援の仕組みを実証的に設け、支援サービスの効率化・高度化につなげる。
A12: 実施方法 | G12: 委託・請負
A13: 予算額・ 執行額 （単位:百万円） （インプット） | P13: 令和元年度 | W13: 令和2年度 | AD13: 令和3年度 | AK13: 令和4年度 | AR13: 令和5年度要求
G14: 予算の状況 | I14: 当初予算 | P14: 4776 | W14: 4240 | AD14: 4090 | AK14: 4000 | AR14: 5400
I15: 補正予算 | P15: 1000 | W15: 982 | AD15: - | AK15: -
I16: 前年度から繰越し | P16: 1000 | W16: 1000 | AD16: 982 | AK16: - | AR16: -
I17: 翌年度へ繰越し | P17: -1000 | W17: -982 | AD17: - | AK17: -
I18: 予備費等 | P18: 204 | W18: - | AD18: - | AK18: -
I19: 計 | P19: =SUM(P14:V18) -> 5980 | W19: =SUM(W14:AC18) -> 5240 | AD19: =SUM(AD14:AJ18) -> 5072 | AK19: =SUM(AK14:AQ18) -> 4000 | AR19: =SUM(AR14:AX18) -> 5400
G20: 執行額 | P20: 4964 | W20: 4450 | AD20: 4358
G21: 執行率（％） | P21: =IF(P19=0, "-", SUM(P20)/P19) -> 0.83010033 | W21: =IF(W19=0, "-", SUM(W20)/W19) -> 0.84923664 | AD21: =IF(AD19=0, "-", SUM(AD20)/AD19) -> 0.85922713
G22: 当初予算＋補正予算に対する執行額の割合（％） | P22: =IF(P20=0, "-", SUM(P20)/SUM(P14,P15)) -> 0.85941828 | W22: =IF(W20=0, "-", SUM(W20)/SUM(W14,W15)) -> 0.85216392 | AD22: =IF(AD20=0, "-", SUM(AD20)/SUM(AD14,AD15)) -> 1.0655257
A23: 令和4・5年度 予算内訳 （単位：百万円） | G23: 歳出予算目 | P23: 令和4年度当初予算 | W23: 令和5年度要求 | AD23: 主な増減理由
G24: 中小企業経営支援等対策委託費 | P24: 4000 | W24: 5400 | AD24: 令和4年度のよろず支援拠点事業においては、令和4年度当初予算30.2億円と令和3年度補正予算17.1億円を合計した計47.3億円で事業執行している。これらのうち、令和3年度補正予算分である17.1億円については、令和5年度においてよろず支援拠点事業を執行する上で真に必要な予算であることから、令和5年度当初予算として要求するもの。本事業全体としては、専門家派遣事業と高度化実証事業を減額して、約14億円（17.1億円-1.6億円-1.5億円）を増額し、約54億円を要望額としている。
G30: 計 | P30: =AK14 -> 4000 | W30: =AR14 -> 5400
A31: 活動内容① （アクティビティ） | G31: 中小企業・小規模事業者等が抱える様々な経営課題に対応するワンストップ相談窓口として、各都道府県に「よろず支援拠点」を設置することで、経営課題の解決に向けて支援を実施する。
A33: 活動目標及び 活動実績① （アウトプット） | G33: 活動目標 | P33: 活動指標 | AB33: 単位 | AE33: 令和元年度 | AI33: 令和2年度 | AM33: 令和3年度 | AQ33: 4年度 活動見込 | AU33: 5年度 活動見込
G34: よろず支援拠点の相談対応件数500,000件になることを目指す。 | P34: よろず支援拠点相談対応件数 | Y34: 活動実績 | AB34: 件 | AE34: 326584 | AI34: 432640 | AM34: 458440 | AQ34: - | AU34: -
Y35: 当初見込み | AB35: 件 | AE35: 300000 | AI35: 350000 | AM35: 450000 | AQ35: 500000 | AU35: 500000
A36: 単位当たり コスト | G36: 算出根拠 | AB36: 単位 | AE36: 令和元年度 | AI36: 令和2年度 | AM36: 令和3年度 | AQ36: 4年度活動見込
G37: 執行額/ よろず支援拠点数 | Y37: 単位当たり コスト | AB37: 千円 | AE37: 81489 | AI37: 78511 | AM37: 81702 | AQ37: -
Y38: 計算式 | AB38: 億円/拠点 | AE38: 38.3/47 | AI38: 36.9/47 | AM38: 38.4/47 | AQ38: -
A40: 成果目標及び 成果実績①-1 （初期アウトカム） | G40: 定量的な成果目標 | P40: 成果指標 | AB40: 単位 | AE40: 令和元年度 | AI40: 令和2年度 | AM40: 令和3年度 | AQ40: 中間目標 | AU40: 目標最終年度
AQ41: - | AS41: 年度 | AU41: 5 | AW41: 年度
G42: よろず支援拠点への相談者が経営課題を発見・認識した件数150,000件を目指す。 | P42: よろず支援拠点への相談者が経営課題を発見・認識した件数（課題発見件数） | Y42: 成果実績 | AB42: 件 | AE42: 94383 | AI42: 131704 | AM42: 136237 | AQ42: - | AU42: -
Y43: 目標値 | AB43: 件 | AE43: - | AI43: - | AM43: - | AQ43: - | AU43: 150000
Y44: 達成度 | AB44: ％ | AE44: - | AI44: - | AM44: - | AQ44: - | AU44: -
A45: 成果目標と成果指標の設定理由及び設定根拠（根拠として用いた統計・データ名（出典）含む） ①-1 | G45: 本活動の目的である経営課題の解決に向けて、よろず支援拠点への相談者が解決すべき経営課題を発見・認識する必要があることから「課題発見件数」を初期アウトカム（成果目標）として設定している。経営課題を発見・認識した上で、その解決を図るというプロセスを経て、地域経済の活性化に繋げるためには、相当数の課題を特定し、解決に向けて支援していく必要があることから、150,000件の経営課題の発見・認識を目標とする。なお、よろず支援拠点の相談記録をシステム上で管理していることから、本システム内の指標を根拠データとして取り扱うこととする。
A48: 成果目標及び 成果実績①-2 （最終アウトカム） | G48: 定量的な成果目標 | P48: 成果指標 | AB48: 単位 | AE48: 令和元年度 | AI48: 令和2年度 | AM48: 令和3年度 | AQ48: 中間目標 | AU48: 目標最終年度
AQ49: - | AS49: 年度 | AU49: 5 | AW49: 年度
G50: よろず支援拠点への相談者が経営課題を解決した件数40,000件を目指す。 | P50: よろず支援拠点への相談者が経営課題を解決した件数(課題解決件数) | Y50: 成果実績 | AB50: 件 | AE50: 17332 | AI50: 24377 | AM50: 30675 | AQ50: - | AU50: -
...

Sheet サマリー3
Y2: 事業番号 | AE2: 2022 | AJ2: - | AK2: =行政事業レビューシート!AJ2 -> 経産 | AO2: - | AP2: =行政事業レビューシート!AO2 -> 21 | AS2: - | AT2: =行政事業レビューシート!AS2 -> 131 | AW2: =IF(AX2="","","-")
A3: 令和4年度行政事業レビューシート（サマリー・試行版） | AJ3: （ | AL3: =行政事業レビューシート!AJ3 -> 経済産業省 | AY3: ）
A4: 事業名 | H4: =行政事業レビューシート!G4 -> 中小企業･小規模事業者ワンストップ総合支援事業 | BH4: 担当部局庁 | BY4: =行政事業レビューシート!AE4 -> 中小企業庁 | CP4: 担当課室 | DG4: =行政事業レビューシート!AE5 -> 経営支援課
A5: 事業開始年度 | H5: =行政事業レビューシート!G5 -> 平成26年度 | Z5: 事業終了（予定）年度 | AQ5: =行政事業レビューシート!S5 -> 令和5年度 | BH5: 作成責任者 | BY5: =行政事業レビューシート!AQ5 -> 課長 松井 拓郎
A7: 事業の目的 （3行程度以内） | H7: =行政事業レビューシート!G9 -> 中小企業・小規模事業者等が抱える様々な経営課題に対応するための相談体制を整備することによって、その解決を支援し、地域経済を活性化することを目指す。 | BH7: 予算額・ 執行額 （単位:百万円） （インプット） | CO7: 令和元年度 | CX7: 令和2年度 | DG7: 令和3年度 | DP7: 令和4年度 | DY7: 令和5年度要求
CC8: 予算の状況 | CF8: 当初予算 | CO8: =行政事業レビューシート!P14 -> 4776 | CX8: =行政事業レビューシート!W14 -> 4240 | DG8: =行政事業レビューシート!AD14 -> 4090 | DP8: =行政事業レビューシート!AK14 -> 4000 | DY8: =行政事業レビューシート!AR14 -> 5400
CF9: 補正予算 | CO9: =行政事業レビューシート!P15 -> 1000 | CX9: =行政事業レビューシート!W15 -> 982 | DG9: =行政事業レビューシート!AD15 -> - | DP9: =行政事業レビューシート!AK15 -> -
A10: 現状・課題 （現状把握・課題） | H10: =行政事業レビューシート!G10 -> 中小企業・小規模事業者、特に小規模事業者は規模の大きい企業に比べて資金面の余裕が乏しいことや情報の非対称性・取引コストの問題により、民間コンサルティング会社やその他専門家等による経営支援が必ずしも進んでいない。このため、特に小規模事業者を対象とした支援はビジネスベースでは成り立たず、公的機関がその支援を実施していくとともに、ある程度の規模を有する中小企業には適切な民間支援機関の有料支援を受けるよう促していくような環境整備をしていく必要がある。 例えば、中小企業・小規模事業者は成果を出すまで伴走してくれる適切な支援者に出会うのが難しいというボトルネックを抱えており、中小企業と支援者のマッチング・支援者間の連携等に関して、新型コロナウイルス感染拡大を契機とした中小企業のデジタル化の浸透を踏まえ、デジタルツールなども活用しながら効果的・効率的に実施する必要がある。特に事業承継の増加に伴う成長意欲の高い後継者の増加や、新型コロナウイルス流行を契機とした事業再構築やDXに取り組む企業の増加を踏まえ、当該企業の経営者が活用しやすいツール（スマートフォン）を用いたわかりやすい見える化（レーティング・口コミ・実績表示等）によるマッチングが求められている。 | CF10: 前年度から繰越し | CO10: =行政事業レビューシート!P16 -> 1000 | CX10: =行政事業レビューシート!W16 -> 1000 | DG10: =行政事業レビューシート!AD16 -> 982 | DP10: =行政事業レビューシート!AK16 -> - | DY10: =行政事業レビューシート!AR16 -> -
CF11: 翌年度へ繰越し | CO11: =行政事業レビューシート!P17 -> -1000 | CX11: =行政事業レビューシート!W17 -> -982 | DG11: =行政事業レビューシート!AD17 -> - | DP11: =行政事業レビューシート!AK17 -> -
CF12: 予備費等 | CO12: =行政事業レビューシート!P18 -> 204 | CX12: =行政事業レビューシート!W18 -> - | DG12: =行政事業レビューシート!AD18 -> - | DP12: =行政事業レビューシート!AK18 -> -
A13: 事業概要 （5行程度以内） | H13: =行政事業レビューシート!G11 -> 中小企業・小規模事業者等が抱える様々な経営課題に対応するワンストップ相談窓口として、各都道府県に「よろず支援拠点」を設置することで、経営課題の解決に向けた支援を実施する。 また、よろず支援拠点や商工会・商工会議所等では解決困難な課題に対して、それぞれの課題に対応した専門家を派遣し、その解決を支援することで、地域の支援機関の側面支援を行うとともに、中小企業･小規模事業者における専門家の活用意識を醸成する。 さらに、新型コロナウイルス感染拡大を契機に中小企業におけるデジタル化が進んでいるところ、オンラインで個社に適した支援者等が見つかる仕組みや支援者間連携による経営支援の仕組みを実証的に設け、支援サービスの効率化・高度化につなげる。 | CF13: 計 | CO13: =行政事業レビューシート!P19 -> 5980 | CX13: =行政事業レビューシート!W19 -> 5240 | DG13: =行政事業レビューシート!AD19 -> 5072 | DP13: =行政事業レビューシート!AK19 -> 4000 | DY13: =行政事業レビューシート!AR19 -> 5400
CC14: 執行額 | CO14: =行政事業レビューシート!P20 -> 4964 | CX14: =行政事業レビューシート!W20 -> 4450 | DG14: =行政事業レビューシート!AD20 -> 4358
CC15: 執行率（％） | CO15: =行政事業レビューシート!P21 -> 0.83010033 | CX15: =行政事業レビューシート!W21 -> 0.84923664 | DG15: =行政事業レビューシート!AD21 -> 0.85922713
CC16: 当初予算＋補正予算に対する執行額の割合（％） | CO16: =行政事業レビューシート!P22 -> 0.85941828 | CX16: =行政事業レビューシート!W22 -> 0.85216392 | DG16: =行政事業レビューシート!AD22 -> 1.0655257
H17: ① | AZ17: ② | CQ17: ③
A18: 活動内容 （アクティビティ） | H18: =行政事業レビューシート!G31 -> 中小企業・小規模事業者等が抱える様々な経営課題に対応するワンストップ相談窓口として、各都道府県に「よろず支援拠点」を設置することで、経営課題の解決に向けて支援を実施する。 | AZ18: =行政事業レビューシート!G75 -> よろず支援拠点や商工会・商工会議所等では解決困難な課題に対して、それぞれの課題に対応した専門家を派遣し、その経営課題の解決に向けて支援を実施する。 | CQ18: =行政事業レビューシート!G119 -> オンラインで個社に適した支援策等が見つかる仕組みや官民連携による経営支援の仕組みを実証的に設け、支援サービスの効率化・高度化につなげる。
A20: 活動目標及び 活動実績 （アウトプット） | H20: 活動目標 | AD20: 活動指標 | AZ20: 活動目標 | BU20: 活動指標 | CQ20: 活動目標 | DL20: 活動指標
H21: =行政事業レビューシート!G34 -> よろず支援拠点の相談対応件数500,000件になることを目指す。 | AD21: =行政事業レビューシート!P34 -> よろず支援拠点相談対応件数 | AZ21: =行政事業レビューシート!G78 -> 専門家派遣の派遣件数について、11,077件となることを目指す。 | BU21: =行政事業レビューシート!P78 -> 専門家派遣件数 | CQ21: =行政事業レビューシート!G122 -> オンラインで個社に適した支援策・支援者等が見つかる仕組み等を活用した事業者・支援者数が5,000人となることを目指します。 | DL21: =行政事業レビューシート!P122 -> オンラインで個社に適した支援策・支援者等が見つかる仕組み等を活用した事業者・支援者数
Q23: 単位 | V23: 令和元年度 | AB23: 令和2年度 | AH23: 令和3年度 | AN23: 4年度 活動見込 | AT23: 5年度 活動見込 | BH23: 単位 | BM23: 令和元年度 | BS23: 令和2年度 | BY23: 令和3年度 | CE23: 4年度 活動見込 | CK23: 5年度 活動見込 | CY23: 単位 | DD23: 令和元年度 | DJ23: 令和2年度 | DP23: 令和3年度 | DV23: 4年度 活動見込 | EB23: 5年度 活動見込
H24: 活動実績 | Q24: =行政事業レビューシート!AB34 -> 件 | V24: =行政事業レビューシート!AE34 -> 326584 | AB24: =行政事業レビューシート!AI34 -> 432640 | AH24: =行政事業レビューシート!AM34 -> 458440 | AN24: =行政事業レビューシート!AQ34 -> - | AT24: =行政事業レビューシート!AU34 -> - | AZ24: 活動実績 | BH24: =行政事業レビューシート!AB78 -> 件 | BM24: =行政事業レビューシート!AE78 -> 20991 | BS24: =行政事業レビューシート!AI78 -> 10367 | BY24: =行政事業レビューシート!AM78 -> 6491 | CE24: =行政事業レビューシート!AQ78 -> - | CK24: =行政事業レビューシート!AU78 -> - | CQ24: 活動実績 | CY24: =行政事業レビューシート!AB122 -> 人 | DD24: =行政事業レビューシート!AE122 -> - | DJ24: =行政事業レビューシート!AI122 -> - | DP24: =行政事業レビューシート!AM122 -> - | DV24: =行政事業レビューシート!AQ122 -> - | EB24: =行政事業レビューシート!AU122 -> -
H25: 当初見込み | Q25: =行政事業レビューシート!AB35 -> 件 | V25: =行政事業レビューシート!AE35 -> 300000 | AB25: =行政事業レビューシート!AI35 -> 350000 | AH25: =行政事業レビューシート!AM35 -> 450000 | AN25: =行政事業レビューシート!AQ35 -> 500000 | AT25: =行政事業レビューシート!AU35 -> 500000 | AZ25: 当初見込み | BH25: =行政事業レビューシート!AB79 -> 件 | BM25: =行政事業レビューシート!AE79 -> 27000 | BS25: =行政事業レビューシート!AI79 -> 11000 | BY25: =行政事業レビューシート!AM79 -> 11500 | CE25: =行政事業レビューシート!AQ79 -> 11077 | CK25: =行政事業レビューシート!AU79 -> - | CQ25: 当初見込み | CY25: =行政事業レビューシート!AB123 -> 人 | DD25: =行政事業レビューシート!AE123 -> - | DJ25: =行政事業レビューシート!AI123 -> - | DP25: =行政事業レビューシート!AM123 -> - | DV25: =行政事業レビューシート!AQ123 -> 100 | EB25: =行政事業レビューシート!AU123 -> 5000
A27: 成果目標及び 成果実績 （初期アウトカム） | H27: 定量的な成果目標 | AD27: 成果指標 | AZ27: 定量的な成果目標 | BU27: 成果指標 | CQ27: 定量的な成果目標 | DL27: 成果指標
H29: =行政事業レビューシート!G42 -> よろず支援拠点への相談者が経営課題を発見・認識した件数150,000件を目指す。 | AD29: =行政事業レビューシート!P42 -> よろず支援拠点への相談者が経営課題を発見・認識した件数（課題発見件数） | AZ29: =行政事業レビューシート!G86 -> 専門家の派遣を受けた相談者が経営課題の解決の対策を立てられた割合90%を目指す。 | BU29: =行政事業レビューシート!P86 -> 専門家の派遣を受けた相談者が経営課題の解決の対策を立てられた割合 | CQ29: =行政事業レビューシート!G130 -> オンラインで個社に適した支援策・支援者等が見つかる仕組み等を活用した事業者・支援者からの満足度が20％以上になることを目指します。 | DL29: =行政事業レビューシート!P130 -> オンラインで個社に適した支援策・支援者等が見つかる仕組み等を活用した事業者・支援者のうち、満足・どちらかといえば満足と答えた事業者・支援者の割合
Q32: 単位 | V32: 令和元年度 | AB32: 令和2年度 | AH32: 令和3年度 | AN32: 中間目標 | AT32: 目標最終 年度 | BH32: 単位 | BM32: 令和元年度 | BS32: 令和2年度 | BY32: 令和3年度 | CE32: 中間目標 | CK32: 目標最終 年度 | CY32: 単位 | DD32: 令和元年度 | DJ32: 令和2年度 | DP32: 令和3年度 | DV32: 中間目標 | EB32: 目標最終 年度
AN33: =行政事業レビューシート!AQ41 -> - | AQ33: 年度 | AT33: =行政事業レビューシート!AU41 -> 5 | AW33: 年度 | CE33: =行政事業レビューシート!AQ85 -> - | CH33: 年度 | CK33: =行政事業レビューシート!AU85 -> 5 | CN33: 年度 | DV33: =行政事業レビューシート!AQ129 -> - | DY33: 年度 | EB33: =行政事業レビューシート!AU129 -> 5 | EE33: 年度
H34: 成果実績 | Q34: =行政事業レビューシート!AB42 -> 件 | V34: =行政事業レビューシート!AE42 -> 94383 | AB34: =行政事業レビューシート!AI42 -> 131704 | AH34: =行政事業レビューシート!AM42 -> 136237 | AN34: =行政事業レビューシート!AQ42 -> - | AT34: =行政事業レビューシート!AU42 -> - | AZ34: 成果実績 | BH34: =行政事業レビューシート!AB86 -> ％ | BM34: =行政事業レビューシート!AE86 -> 94 | BS34: =行政事業レビューシート!AI86 -> 96 | BY34: =行政事業レビューシート!AM86 -> 94 | CE34: =行政事業レビューシート!AQ86 -> - | CK34: =行政事業レビューシート!AU86 -> - | CQ34: 成果実績 | CY34: =行政事業レビューシート!AB130 -> ％ | DD34: =行政事業レビューシート!AE130 -> - | DJ34: =行政事業レビューシート!AI130 -> - | DP34: =行政事業レビューシート!AM130 -> - | DV34: =行政事業レビューシート!AQ130 -> - | EB34: =行政事業レビューシート!AU130 -> 0
H35: 目標値 | Q35: =行政事業レビューシート!AB43 -> 件 | V35: =行政事業レビューシート!AE43 -> - | AB35: =行政事業レビューシート!AI43 -> - | AH35: =行政事業レビューシート!AM43 -> - | AN35: =行政事業レビューシート!AQ43 -> - | AT35: =行政事業レビューシート!AU43 -> 150000 | AZ35: 目標値 | BH35: =行政事業レビューシート!AB87 -> ％ | BM35: =行政事業レビューシート!AE87 -> 90 | BS35: =行政事業レビューシート!AI87 -> 90 | BY35: =行政事業レビューシート!AM87 -> 90 | CE35: =行政事業レビューシート!AQ87 -> - | CK35: =行政事業レビューシート!AU87 -> 90 | CQ35: 目標値 | CY35: =行政事業レビューシート!AB131 -> ％ | DD35: =行政事業レビューシート!AE131 -> - | DJ35: =行政事業レビューシート!AI131 -> - | DP35: =行政事業レビューシート!AM131 -> - | DV35: =行政事業レビューシート!AQ131 -> - | EB35: =行政事業レビューシート!AU131 -> 20
H36: 達成度 | Q36: ％ | V36: =行政事業レビューシート!AE44 -> - | AB36: =行政事業レビューシート!AI44 -> - | AH36: =行政事業レビューシート!AM44 -> - | AN36: =行政事業レビューシート!AQ44 -> - | AT36: =行政事業レビューシート!AU44 -> - | AZ36: 達成度 | BH36: ％ | BM36: =行政事業レビューシート!AE88 -> 104.4 | BS36: =行政事業レビューシート!AI88 -> 106.7 | BY36: =行政事業レビューシート!AM88 -> 1044 | CE36: =行政事業レビューシート!AQ88 -> - | CK36: =行政事業レビューシート!AU88 -> - | CQ36: 達成度 | CY36: ％ | DD36: =行政事業レビューシート!AE132 -> - | DJ36: =行政事業レビューシート!AI132 -> - | DP36: =行政事業レビューシート!AM132 -> - | DV36: =行政事業レビューシート!AQ132 -> - | EB36: =行政事業レビューシート!AU132 -> -
A37: 成果目標と成果指標の設定理由及び設定根拠 | H37: =行政事業レビューシート!G45 -> 本活動の目的である経営課題の解決に向けて、よろず支援拠点への相談者が解決すべき経営課題を発見・認識する必要があることから「課題発見件数」を初期アウトカム（成果目標）として設定している。経営課題を発見・認識した上で、その解決を図るというプロセスを経て、地域経済の活性化に繋げるためには、相当数の課題を特定し、解決に向けて支援していく必要があることから、150,000件の経営課題の発見・認識を目標とする。なお、よろず支援拠点の相談記録をシステム上で管理していることから、本システム内の指標を根拠データとして取り扱うこととする。 | AZ37: =行政事業レビューシート!G89 -> 本活動の目的であるよろず支援拠点や商工会・商工会議所等では解決困難な経営課題の解決に向けて、専門家の派遣を受けた相談者が解決すべき困難な経営課題への対策を発見・認識する必要があることから「経営課題の解決を立てられた割合」を初期アウトカム（成果目標）として設定している。解決困難な経営課題の解決の対策を立てた上で、その解決を図るというプロセスを経て、地域経済の活性化に繋げるためには、相当数の対策を立て、解決に向けて支援していく必要があることから、経営課題の解決が立てられた件数の割合90％を目標とする。なお、中小企業・小規模事業者ワンストップ総合支援事業 満足度調査報告書（専門家派遣事業）における指標を根拠データとして取り扱うこととする。 | CQ37: =行政事業レビューシート!G133 -> 本活動が中小企業･小規模事業者が時間・場所を問わず個社に適した支援策・支援者等をオンラインで見つけることができるサービスの創出を目指しており、オンラインサービスにおけるシステムのUI/UXも重要であるため、サービスに対するユーザーの満足度を初期アウトカムとして設定する。その上でサービス満足度の基準としては、「令和３年度認定経営革新等支援機関に関するアンケート調査報告書」のうち、「認定支援機関検索システムに対する満足度」の回答を参考にし、20％以上を目標とする。
A40: 成果目標及び 成果実績 （最終アウトカム） | H40: 定量的な成果目標 | AD40: 成果指標 | AZ40: 定量的な成果目標 | BU40: 成果指標 | CQ40: 定量的な成果目標 | DL40: 成果指標
H42: =行政事業レビューシート!G50 -> よろず支援拠点への相談者が経営課題を解決した件数40,000件を目指す。 | AD42: =行政事業レビューシート!P50 -> よろず支援拠点への相談者が経営課題を解決した件数(課題解決件数) | AZ42: =行政事業レビューシート!G94 -> 課題解決の対策を立てられた相談者のうち、実行し成果・効果を得た割合80％を目指す。 | BU42: =行政事業レビューシート!P94 -> 課題解決の対策を立てられた相談者のうち、実行し成果・効果を得た割合 | CQ42: =行政事業レビューシート!G138 -> オンラインで個社に適した支援策・支援者等が見つかる仕組み等を活用した事業者のうち、個社に適した支援策・支援者等が見つかった割合が10％以上になることを目指します。 | DL42: =行政事業レビューシート!P138 -> オンラインで個社に適した支援策・支援者等が見つかる仕組み等を活用した事業者・支援者のうち、個社に適した支援策・支援者等が見つかった割合
Q45: 単位 | V45: 令和元年度 | AB45: 令和2年度 | AH45: 令和3年度 | AN45: 中間目標 | AT45: 目標最終 年度 | BH45: 単位 | BM45: 令和元年度 | BS45: 令和2年度 | BY45: 令和3年度 | CE45: 中間目標 | CK45: 目標最終 年度 | CY45: 単位 | DD45: 令和元年度 | DJ45: 令和2年度 | DP45: 令和3年度 | DV45: 中間目標 | EB45: 目標最終 年度
AN46: =行政事業レビューシート!AQ49 -> - | AQ46: 年度 | AT46: =行政事業レビューシート!AU49 -> 5 | AW46: 年度 | CE46: =行政事業レビューシート!AQ93 -> - | CH46: 年度 | CK46: =行政事業レビューシート!AU93 -> 5 | CN46: 年度 | DV46: =行政事業レビューシート!AQ137 -> - | DY46: 年度 | EB46: =行政事業レビューシート!AU137 -> 5 | EE46: 年度
H47: 成果実績 | Q47: =行政事業レビューシート!AB50 -> 件 | V47: =行政事業レビューシート!AE50 -> 17332 | AB47: =行政事業レビューシート!AI50 -> 24377 | AH47: =行政事業レビューシート!AM50 -> 30675 | AN47: =行政事業レビューシート!AQ50 -> - | AT47: =行政事業レビューシート!AU50 -> - | AZ47: 成果実績 | BH47: =行政事業レビューシート!AB94 -> ％ | BM47: =行政事業レビューシート!AE94 -> - | BS47: =行政事業レビューシート!AI94 -> 80 | BY47: =行政事業レビューシート!AM94 -> 79 | CE47: =行政事業レビューシート!AQ94 -> - | CK47: =行政事業レビューシート!AU94 -> - | CQ47: 成果実績 | CY47: =行政事業レビューシート!AB138 -> ％ | DD47: =行政事業レビューシート!AE138 -> - | DJ47: =行政事業レビューシート!AI138 -> - | DP47: =行政事業レビューシート!AM138 -> - | DV47: =行政事業レビューシート!AQ138 -> - | EB47: =行政事業レビューシート!AU138 -> -
H48: 目標値 | Q48: =行政事業レビューシート!AB51 -> 件 | V48: =行政事業レビューシート!AE51 -> 20000 | AB48: =行政事業レビューシート!AI51 -> 20000 | AH48: =行政事業レビューシート!AM51 -> 30000 | AN48: =行政事業レビューシート!AQ51 -> - | AT48: =行政事業レビューシート!AU51 -> 40000 | AZ48: 目標値 | BH48: =行政事業レビューシート!AB95 -> ％ | BM48: =行政事業レビューシート!AE95 -> - | BS48: =行政事業レビューシート!AI95 -> - | BY48: =行政事業レビューシート!AM95 -> - | CE48: =行政事業レビューシート!AQ95 -> - | CK48: =行政事業レビューシート!AU95 -> 80 | CQ48: 目標値 | CY48: =行政事業レビューシート!AB139 -> ％ | DD48: =行政事業レビューシート!AE139 -> - | DJ48: =行政事業レビューシート!AI139 -> - | DP48: =行政事業レビューシート!AM139 -> - | DV48: =行政事業レビューシート!AQ139 -> - | EB48: =行政事業レビューシート!AU139 -> 10
H49: 達成度 | Q49: ％ | V49: =行政事業レビューシート!AE52 -> 86.7 | AB49: =行政事業レビューシート!AI52 -> 121.9 | AH49: =行政事業レビューシート!AM52 -> 102.3 | AN49: =行政事業レビューシート!AQ52 -> - | AT49: =行政事業レビューシート!AU52 -> - | AZ49: 達成度 | BH49: ％ | BM49: =行政事業レビューシート!AE96 -> - | BS49: =行政事業レビューシート!AI96 -> - | BY49: =行政事業レビューシート!AM96 -> - | CE49: =行政事業レビューシート!AQ96 -> - | CK49: =行政事業レビューシート!AU96 -> - | CQ49: 達成度 | CY49: ％ | DD49: =行政事業レビューシート!AE140 -> - | DJ49: =行政事業レビューシート!AI140 -> - | DP49: =行政事業レビューシート!AM140 -> - | DV49: =行政事業レビューシート!AQ140 -> - | EB49: =行政事業レビューシート!AU140 -> -
A50: 成果目標と成果指標の設定理由及び設定根拠 | H50: =行政事業レビューシート!G53 -> 本活動が経営課題の解決を図ることを目的としていることから、よろず支援拠点への相談者が発見・認識した解決すべき経営課題を実際に解決した件数を最終アウトカム（成果目標）に設定している。経営課題を発見・認識した上で、その解決を図るというプロセスを経て、地域経済の活性化に繋げるためには、相当数の経営課題を解決していくことが必要であることから、40,000件の課題解決を目標とする。なお、よろず支援拠点の相談記録をシステム上で管理していることから、本システム内の指標を根拠データとして取り扱うこととする。 | AZ50: =行政事業レビューシート!G97 -> 本活動がよろず支援拠点や商工会・商工会議所等では解決困難な経営課題の解決を図ることを目的としていることから、課題解決の対策を立てられた相談者のうち、その対策を実行し成果・効果を得た割合を最終アウトカム（成果目標）に設定している。課題解決の対策を発見・認識した上で、その解決を図るというプロセスを経て、地域経済の活性化に繋げるためには、相当数の解決困難な経営課題を解決していくことが必要であることから、課題解決の対策を立てられた相談者のうち、実行し成果・効果を得た割合80％を目標とする。なお、中小企業・小規模事業者ワンストップ総合支援事業 満足度調査報告書（専門家派遣事業）における指標を根拠データとして取り扱うこととする。 | CQ50: =行政事業レビューシート!G141 -> 本活動が中小企業･小規模事業者が時間・場所問わず個社に適した支援策・支援者等をオンラインで見つけることができるサービスの創出を目指していることから、実際に「見つけることができる」ことが重要であるため、「オンラインで個社に適した支援策・支援者等が見つかった割合」を最終アウトカムとして設定する。
A53: 最終的に目指す姿 （インパクト） | H53: =行政事業レビューシート!G251 -> 中小企業・小規模事業者等が、官民の支援機関やそのネットワーク、個々の支援措置を適時に受けられるように社会インフラの整備を行い、デジタルツールを用いたオンライン型の支援措置も含め、適切な支援ツールを提供できるような経営支援体制を構築することで、経営課題の解決に導くとともに、地域における雇用の創出・確保、地域経済の活性化、ひいては、日本経済全体の底上げが図れる状態を目指す。

Sheet 入力規則等
A1: 主要施策名 | B1: 該当の有無 | F1: 会計区分 | G1: 該当の有無 | K1: 主要経費名 | L1: 該当の有無 | P1: 実施方法 | Q1: 該当の有無 | U1: 事業番号 | W1: 省庁 | Y1: 開始年度 | Z1: 開始年度西暦 | AA1: 終了（予定）年度 | AB1: 終了（予定）年度西暦 | AC1: 行政事業レビュー推進チームの所見 | AE1: 所見を踏まえた改善点/概算要求における反映状況 | AG1: 契約方式 | AI1: 一体改革分野 | AK1: ブロック名 | AP1: 契約方式その２
A2: 医療分野の研究開発関連 | C2: =IF(B2="","",A2) | D2: =IF(C2="","",IF(D1<>"",CONCATENATE(D1,"、",C2),C2)) | F2: 一般会計 | H2: =IF(G2="","",F2) | I2: =IF(H2="","",IF(I1<>"",CONCATENATE(I1,"、",H2),H2)) | K2: 社会保障 | M2: =IF(L2="","",K2) | N2: =IF(M2="","",IF(N1<>"",CONCATENATE(N1,"、",M2),M2)) | P2: 直接実施 | R2: =IF(Q2="","",P2) | S2: =IF(R2="","",IF(S1<>"",CONCATENATE(S1,"、",R2),R2)) | U2: 21 | W2: （選択してください） | Y2: 不明 | Z2: 不明 | AA2: 令和元年度 | AB2: 2019年度 | AC2: 廃止 | AE2: 廃止 | AG2: 一般競争契約 （最低価格） | AI2: - | AK2: A | AP2: 一般競争契約 （最低価格）
A3: 宇宙開発利用 | C3: =IF(B3="","",A3) | D3: =IF(C3="",D2,IF(D2<>"",CONCATENATE(D2,"、",C3),C3)) | F3: 交付税及び譲与税配付金特別会計 | H3: =IF(G3="","",F3) | I3: =IF(H3="",I2,IF(I2<>"",CONCATENATE(I2,"、",H3),H3)) | K3: 文教及び科学振興 | M3: =IF(L3="","",K3) | N3: =IF(M3="",N2,IF(N2<>"",CONCATENATE(N2,"、",M3),M3)) | P3: 委託・請負 | R3: =IF(Q3="","",P3) | S3: =IF(R3="",S2,IF(S2<>"",CONCATENATE(S2,"、",R3),R3)) | U3: 新22 | W3: 内閣官房 | Y3: 昭和元年度以前 | Z3: 1926年度以前 | AA3: 令和2年度 | AB3: 2020年度 | AC3: 事業全体の 抜本的な改善 | AE3: 縮減 | AG3: 一般競争契約 （総合評価） | AI3: 社会保障 | AK3: =CHAR(CODE(AK2)+1) -> B | AP3: 一般競争契約 （総合評価）
A4: 沖縄振興 | C4: =IF(B4="","",A4) | D4: =IF(C4="",D3,IF(D3<>"",CONCATENATE(D3,"、",C4),C4)) | F4: 地震再保険特別会計 | H4: =IF(G4="","",F4) | I4: =IF(H4="",I3,IF(I3<>"",CONCATENATE(I3,"、",H4),H4)) | K4: 恩給関係 | M4: =IF(L4="","",K4) | N4: =IF(M4="",N3,IF(N3<>"",CONCATENATE(N3,"、",M4),M4)) | P4: 補助 | R4: =IF(Q4="","",P4) | S4: =IF(R4="",S3,IF(S3<>"",CONCATENATE(S3,"、",R4),R4)) | U4: 新23 | W4: 内閣府 | Y4: 昭和2年度 | Z4: 1927年度 | AA4: 令和3年度 | AB4: 2021年度 | AC4: 事業内容の 一部改善 | AE4: 執行等改善 | AG4: 指名競争契約 （最低価格） | AI4: 社会資本整備等 | AK4: =CHAR(CODE(AK3)+1) -> C | AP4: 指名競争契約 （最低価格）
A5: 海洋政策 | C5: =IF(B5="","",A5) | D5: =IF(C5="",D4,IF(D4<>"",CONCATENATE(D4,"、",C5),C5)) | F5: 国債整理基金特別会計 | H5: =IF(G5="","",F5) | I5: =IF(H5="",I4,IF(I4<>"",CONCATENATE(I4,"、",H5),H5)) | K5: 防衛関係 | M5: =IF(L5="","",K5) | N5: =IF(M5="",N4,IF(N4<>"",CONCATENATE(N4,"、",M5),M5)) | P5: 負担 | R5: =IF(Q5="","",P5) | S5: =IF(R5="",S4,IF(S4<>"",CONCATENATE(S4,"、",R5),R5)) | W5: 個人情報保護委員会 | Y5: 昭和3年度 | Z5: 1928年度 | AA5: 令和4年度 | AB5: 2022年度 | AC5: 終了予定 | AE5: 年度内に改善を検討 | AG5: 指名競争契約 （総合評価） | AI5: 地方行財政改革 | AK5: =CHAR(CODE(AK4)+1) -> D | AP5: 指名競争契約 （総合評価）
A6: 科学技術・イノベーション | C6: =IF(B6="","",A6) | D6: =IF(C6="",D5,IF(D5<>"",CONCATENATE(D5,"、",C6),C6)) | F6: 外国為替資金特別会計 | H6: =IF(G6="","",F6) | I6: =IF(H6="",I5,IF(I5<>"",CONCATENATE(I5,"、",H6),H6)) | K6: 公共事業 | M6: =IF(L6="","",K6) | N6: =IF(M6="",N5,IF(N5<>"",CONCATENATE(N5,"、",M6),M6)) | P6: 交付 | R6: =IF(Q6="","",P6) | S6: =IF(R6="",S5,IF(S5<>"",CONCATENATE(S5,"、",R6),R6)) | U6: 事業番号その２ | W6: カジノ管理委員会 | Y6: 昭和4年度 | Z6: 1929年度 | AA6: 令和5年度 | AB6: 2023年度 | AC6: 現状通り | AE6: 予定通り終了 | AG6: 随意契約 （企画競争） | AI6: 次世代型行政サービスの早期実現 | AK6: =CHAR(CODE(AK5)+1) -> E | AP6: 随意契約 （企画競争）
A7: 観光立国 | C7: =IF(B7="","",A7) | D7: =IF(C7="",D6,IF(D6<>"",CONCATENATE(D6,"、",C7),C7)) | F7: 財政投融資特別会計財政融資資金勘定 | H7: =IF(G7="","",F7) | I7: =IF(H7="",I6,IF(I6<>"",CONCATENATE(I6,"、",H7),H7)) | K7: 経済協力 | M7: =IF(L7="","",K7) | N7: =IF(M7="",N6,IF(N6<>"",CONCATENATE(N6,"、",M7),M7)) | P7: 貸付 | R7: =IF(Q7="","",P7) | S7: =IF(R7="",S6,IF(S6<>"",CONCATENATE(S6,"、",R7),R7)) | W7: 公正取引委員会 | Y7: 昭和5年度 | Z7: 1930年度 | AA7: 令和6年度 | AB7: 2024年度 | AE7: 現状通り | AG7: 随意契約 （公募） | AI7: 文教・科学技術 | AK7: =CHAR(CODE(AK6)+1) -> F | AP7: 随意契約 （公募）
A8: 交通安全対策 | C8: =IF(B8="","",A8) | D8: =IF(C8="",D7,IF(D7<>"",CONCATENATE(D7,"、",C8),C8)) | F8: 財政投融資特別会計投資勘定 | H8: =IF(G8="","",F8) | I8: =IF(H8="",I7,IF(I7<>"",CONCATENATE(I7,"、",H8),H8)) | K8: 中小企業対策 | M8: =IF(L8="","",K8) | N8: =IF(M8="",N7,IF(N7<>"",CONCATENATE(N7,"、",M8),M8)) | P8: その他 | R8: =IF(Q8="","",P8) | S8: =IF(R8="",S7,IF(S7<>"",CONCATENATE(S7,"、",R8),R8)) | U8: 新02 | W8: 警察庁 | Y8: 昭和6年度 | Z8: 1931年度 | AA8: 令和7年度 | AB8: 2025年度 | AG8: 随意契約 （少額） | AI8: 歳出改革等に向けた取組の加速・拡大 | AK8: =CHAR(CODE(AK7)+1) -> G | AP8: 随意契約 （少額）
A9: 高齢社会対策 | C9: =IF(B9="","",A9) | D9: =IF(C9="",D8,IF(D8<>"",CONCATENATE(D8,"、",C9),C9)) | F9: 財政投融資特別会計特定国有財産整備勘定 | H9: =IF(G9="","",F9) | I9: =IF(H9="",I8,IF(I8<>"",CONCATENATE(I8,"、",H9),H9)) | K9: エネルギー対策 | M9: =IF(L9="","",K9) | N9: =IF(M9="",N8,IF(N8<>"",CONCATENATE(N8,"、",M9),M9)) | U9: 新03 | W9: 金融庁 | Y9: 昭和7年度 | Z9: 1932年度 | AA9: 令和8年度 | AB9: 2026年度 | AG9: 随意契約 （その他） | AK9: =CHAR(CODE(AK8)+1) -> H | AP9: 随意契約 （その他）
A10: 国土強靱化施策 | C10: =IF(B10="","",A10) | D10: =IF(C10="",D9,IF(D9<>"",CONCATENATE(D9,"、",C10),C10)) | F10: エネルギー対策特別会計エネルギー需給勘定 | H10: =IF(G10="","",F10) | I10: =IF(H10="",I9,IF(I9<>"",CONCATENATE(I9,"、",H10),H10)) | K10: 食料安定供給関係 | M10: =IF(L10="","",K10) | N10: =IF(M10="",N9,IF(N9<>"",CONCATENATE(N9,"、",M10),M10)) | P10: =S8 | W10: 消費者庁 | Y10: 昭和8年度 | Z10: 1933年度 | AA10: 令和9年度 | AB10: 2027年度 | AG10: 補助金等交付 | AK10: =CHAR(CODE(AK9)+1) -> I | AP10: その他
A11: 子ども・若者育成支援 | C11: =IF(B11="","",A11) | D11: =IF(C11="",D10,IF(D10<>"",CONCATENATE(D10,"、",C11),C11)) | F11: エネルギー対策特別会計電源開発促進勘定 | H11: =IF(G11="","",F11) | I11: =IF(H11="",I10,IF(I10<>"",CONCATENATE(I10,"、",H11),H11)) | K11: その他の事項経費 | M11: =IF(L11="","",K11) | N11: =IF(M11="",N10,IF(N10<>"",CONCATENATE(N10,"、",M11),M11)) | W11: デジタル庁 | Y11: 昭和9年度 | Z11: 1934年度 | AA11: 令和10年度 | AB11: 2028年度 | AG11: 運営費交付金交付 | AK11: =CHAR(CODE(AK10)+1) -> J
A12: 障害者施策 | C12: =IF(B12="","",A12) | D12: =IF(C12="",D11,IF(D11<>"",CONCATENATE(D11,"、",C12),C12)) | F12: エネルギー対策特別会計原子力損害賠償支援勘定 | H12: =IF(G12="","",F12) | I12: =IF(H12="",I11,IF(I11<>"",CONCATENATE(I11,"、",H12),H12)) | U12: 省庁(事業番号用) | W12: 復興庁 | Y12: 昭和10年度 | Z12: 1935年度 | AA12: 令和11年度 | AB12: 2029年度 | AG12: 国庫債務負担行為等 | AK12: =CHAR(CODE(AK11)+1) -> K
A13: 少子化社会対策 | C13: =IF(B13="","",A13) | D13: =IF(C13="",D12,IF(D12<>"",CONCATENATE(D12,"、",C13),C13)) | F13: 労働保険特別会計労災勘定 | H13: =IF(G13="","",F13) | I13: =IF(H13="",I12,IF(I12<>"",CONCATENATE(I12,"、",H13),H13)) | K13: =N11 | U13: （選択してください） | W13: 総務省 | Y13: 昭和11年度 | Z13: 1936年度 | AA13: 令和12年度 | AB13: 2030年度 | AG13: その他 | AK13: =CHAR(CODE(AK12)+1) -> L
A14: 食育推進 | C14: =IF(B14="","",A14) | D14: =IF(C14="",D13,IF(D13<>"",CONCATENATE(D13,"、",C14),C14)) | F14: 労働保険特別会計雇用勘定 | H14: =IF(G14="","",F14) | I14: =IF(H14="",I13,IF(I13<>"",CONCATENATE(I13,"、",H14),H14)) | U14: 官房 | W14: 法務省 | Y14: 昭和12年度 | Z14: 1937年度 | AA14: 令和13年度 | AB14: 2031年度 | AK14: =CHAR(CODE(AK13)+1) -> M
A15: 男女共同参画 | C15: =IF(B15="","",A15) | D15: =IF(C15="",D14,IF(D14<>"",CONCATENATE(D14,"、",C15),C15)) | F15: 労働保険特別会計徴収勘定 | H15: =IF(G15="","",F15) | I15: =IF(H15="",I14,IF(I14<>"",CONCATENATE(I14,"、",H15),H15)) | U15: 府 | W15: 外務省 | Y15: 昭和13年度 | Z15: 1938年度 | AA15: 令和14年度 | AB15: 2032年度 | AK15: =CHAR(CODE(AK14)+1) -> N
A16: 地球温暖化対策 | C16: =IF(B16="","",A16) | D16: =IF(C16="",D15,IF(D15<>"",CONCATENATE(D15,"、",C16),C16)) | F16: 年金特別会計基礎年金勘定 | H16: =IF(G16="","",F16) | I16: =IF(H16="",I15,IF(I15<>"",CONCATENATE(I15,"、",H16),H16)) | U16: 個情 | W16: 財務省 | Y16: 昭和14年度 | Z16: 1939年度 | AA16: 令和15年度 | AB16: 2033年度 | AK16: =CHAR(CODE(AK15)+1) -> O
A17: 犯罪被害者等施策 | C17: =IF(B17="","",A17) | D17: =IF(C17="",D16,IF(D16<>"",CONCATENATE(D16,"、",C17),C17)) | F17: 年金特別会計国民年金勘定 | H17: =IF(G17="","",F17) | I17: =IF(H17="",I16,IF(I16<>"",CONCATENATE(I16,"、",H17),H17)) | U17: カジノ | W17: 文部科学省 | Y17: 昭和15年度 | Z17: 1940年度 | AA17: 令和16年度 | AB17: 2034年度 | AK17: =CHAR(CODE(AK16)+1) -> P
A18: クールジャパン | C18: =IF(B18="","",A18) | D18: =IF(C18="",D17,IF(D17<>"",CONCATENATE(D17,"、",C18),C18)) | F18: 年金特別会計厚生年金勘定 | H18: =IF(G18="","",F18) | I18: =IF(H18="",I17,IF(I17<>"",CONCATENATE(I17,"、",H18),H18)) | U18: 公取 | W18: 厚生労働省 | Y18: 昭和16年度 | Z18: 1941年度 | AA18: 令和17年度 | AB18: 2035年度 | AK18: =CHAR(CODE(AK17)+1) -> Q
A19: 知的財産 | C19: =IF(B19="","",A19) | D19: =IF(C19="",D18,IF(D18<>"",CONCATENATE(D18,"、",C19),C19)) | F19: 年金特別会計健康勘定 | H19: =IF(G19="","",F19) | I19: =IF(H19="",I18,IF(I18<>"",CONCATENATE(I18,"、",H19),H19)) | U19: 警察 | W19: 農林水産省 | Y19: 昭和17年度 | Z19: 1942年度 | AA19: 令和18年度 | AB19: 2036年度 | AK19: =CHAR(CODE(AK18)+1) -> R
A20: 地方創生 | C20: =IF(B20="","",A20) | D20: =IF(C20="",D19,IF(D19<>"",CONCATENATE(D19,"、",C20),C20)) | F20: 年金特別会計子ども・子育て支援勘定 | H20: =IF(G20="","",F20) | I20: =IF(H20="",I19,IF(I19<>"",CONCATENATE(I19,"、",H20),H20)) | U20: 金融 | W20: 経済産業省 | Y20: 昭和18年度 | Z20: 1943年度 | AA20: 令和19年度 | AB20: 2037年度 | AK20: =CHAR(CODE(AK19)+1) -> S
A21: ＯＤＡ | C21: =IF(B21="","",A21) | D21: =IF(C21="",D20,IF(D20<>"",CONCATENATE(D20,"、",C21),C21)) | F21: 年金特別会計業務勘定 | H21: =IF(G21="","",F21) | I21: =IF(H21="",I20,IF(I20<>"",CONCATENATE(I20,"、",H21),H21)) | U21: 消費 | W21: 国土交通省 | Y21: 昭和19年度 | Z21: 1944年度 | AA21: 令和20年度 | AB21: 2038年度 | AK21: =CHAR(CODE(AK20)+1) -> T
A22: 2020年東京オリパラ | C22: =IF(B22="","",A22) | D22: =IF(C22="",D21,IF(D21<>"",CONCATENATE(D21,"、",C22),C22)) | F22: 食料安定供給特別会計農業経営安定勘定 | H22: =IF(G22="","",F22) | I22: =IF(H22="",I21,IF(I21<>"",CONCATENATE(I21,"、",H22),H22)) | U22: デジ | W22: 環境省 | Y22: 昭和20年度 | Z22: 1945年度 | AA22: 令和21年度 | AB22: 2039年度 | AK22: =CHAR(CODE(AK21)+1) -> U
A23: 統計改革 | C23: =IF(B23="","",A23) | D23: =IF(C23="",D22,IF(D22<>"",CONCATENATE(D22,"、",C23),C23)) | F23: 食料安定供給特別会計食糧管理勘定 | H23: =IF(G23="","",F23) | I23: =IF(H23="",I22,IF(I22<>"",CONCATENATE(I22,"、",H23),H23)) | U23: 復興 | W23: 原子力規制委員会 | Y23: 昭和21年度 | Z23: 1946年度 | AA23: 令和22年度 | AB23: 2040年度 | AK23: =CHAR(CODE(AK22)+1) -> V
F24: 食料安定供給特別会計農業再保険勘定 | H24: =IF(G24="","",F24) | I24: =IF(H24="",I23,IF(I23<>"",CONCATENATE(I23,"、",H24),H24)) | U24: 総務 | W24: 防衛省 | Y24: 昭和22年度 | Z24: 1947年度 | AA24: 令和23年度 | AB24: 2041年度 | AK24: =CHAR(CODE(AK23)+1) -> W
F25: 食料安定供給特別会計漁船再保険勘定 | H25: =IF(G25="","",F25) | I25: =IF(H25="",I24,IF(I24<>"",CONCATENATE(I24,"、",H25),H25)) | U25: 法務 | Y25: 昭和23年度 | Z25: 1948年度 | AA25: 令和24年度 | AB25: 2042年度 | AK25: =CHAR(CODE(AK24)+1) -> X
F26: 食料安定供給特別会計漁業共済保険勘定 | H26: =IF(G26="","",F26) | I26: =IF(H26="",I25,IF(I25<>"",CONCATENATE(I25,"、",H26),H26)) | U26: 外務 | Y26: 昭和24年度 | Z26: 1949年度 | AA26: 令和25年度 | AB26: 2043年度 | AK26: =CHAR(CODE(AK25)+1) -> Y
A27: =IF(D23="", "-", D23) -> - | F27: 食料安定供給特別会計業務勘定 | H27: =IF(G27="","",F27) | I27: =IF(H27="",I26,IF(I26<>"",CONCATENATE(I26,"、",H27),H27)) | U27: 財務 | Y27: 昭和25年度 | Z27: 1950年度 | AA27: 令和26年度 | AB27: 2044年度 | AK27: =CHAR(CODE(AK26)+1) -> Z
F28: 食料安定供給特別会計国営土地改良事業勘定 | H28: =IF(G28="","",F28) | I28: =IF(H28="",I27,IF(I27<>"",CONCATENATE(I27,"、",H28),H28)) | U28: 文科 | Y28: 昭和26年度 | Z28: 1951年度 | AA28: 令和27年度 | AB28: 2045年度 | AK28: a
F29: 国有林野事業債務管理特別会計 | H29: =IF(G29="","",F29) | I29: =IF(H29="",I28,IF(I28<>"",CONCATENATE(I28,"、",H29),H29)) | U29: 厚労 | Y29: 昭和27年度 | Z29: 1952年度 | AA29: 令和28年度 | AB29: 2046年度 | AK29: =CHAR(CODE(AK28)+1) -> b
F30: 貿易再保険特別会計 | H30: =IF(G30="","",F30) | I30: =IF(H30="",I29,IF(I29<>"",CONCATENATE(I29,"、",H30),H30)) | U30: 農水 | Y30: 昭和28年度 | Z30: 1953年度 | AA30: 令和29年度 | AB30: 2047年度 | AK30: =CHAR(CODE(AK29)+1) -> c
F31: 特許特別会計 | H31: =IF(G31="","",F31) | I31: =IF(H31="",I30,IF(I30<>"",CONCATENATE(I30,"、",H31),H31)) | U31: 経産 | Y31: 昭和29年度 | Z31: 1954年度 | AA31: 令和30年度以降 | AB31: 2048年度以降 | AK31: =CHAR(CODE(AK30)+1) -> d
F32: 自動車安全特別会計保障勘定 | H32: =IF(G32="","",F32) | I32: =IF(H32="",I31,IF(I31<>"",CONCATENATE(I31,"、",H32),H32)) | U32: 国交 | Y32: 昭和30年度 | Z32: 1955年度 | AA32: 終了予定なし | AB32: 終了予定なし | AK32: =CHAR(CODE(AK31)+1) -> e
F33: 自動車安全特別会計自動車検査登録勘定 | H33: =IF(G33="","",F33) | I33: =IF(H33="",I32,IF(I32<>"",CONCATENATE(I32,"、",H33),H33)) | U33: 環境 | Y33: 昭和31年度 | Z33: 1956年度 | AK33: =CHAR(CODE(AK32)+1) -> f
F34: 自動車安全特別会計自動車事故対策勘定 | H34: =IF(G34="","",F34) | I34: =IF(H34="",I33,IF(I33<>"",CONCATENATE(I33,"、",H34),H34)) | U34: 原規 | Y34: 昭和32年度 | Z34: 1957年度 | AK34: =CHAR(CODE(AK33)+1) -> g
F35: 自動車安全特別会計空港整備勘定 | H35: =IF(G35="","",F35) | I35: =IF(H35="",I34,IF(I34<>"",CONCATENATE(I34,"、",H35),H35)) | U35: 防衛 | Y35: 昭和33年度 | Z35: 1958年度 | AK35: =CHAR(CODE(AK34)+1) -> h
F36: 東日本大震災復興特別会計 | H36: =IF(G36="","",F36) | I36: =IF(H36="",I35,IF(I35<>"",CONCATENATE(I35,"、",H36),H36)) | Y36: 昭和34年度 | Z36: 1959年度 | AK36: =CHAR(CODE(AK35)+1) -> i
H37: =IF(G37="","",F37) | I37: =IF(H37="",I36,IF(I36<>"",CONCATENATE(I36,"、",H37),H37)) | Y37: 昭和35年度 | Z37: 1960年度 | AK37: =CHAR(CODE(AK36)+1) -> j
Y38: 昭和36年度 | Z38: 1961年度 | AK38: =CHAR(CODE(AK37)+1) -> k
F39: =I37 | U39: 事業番号その3 | Y39: 昭和37年度 | Z39: 1962年度 | AK39: =CHAR(CODE(AK38)+1) -> l
Y40: 昭和38年度 | Z40: 1963年度 | AK40: =CHAR(CODE(AK39)+1) -> m
...

Sheet 別紙1
A2: 成果目標及び 成果実績 （アウトカム） | G2: 定量的な成果目標 | P2: 成果指標 | AB2: 単位 | AE2: 令和元年度 | AI2: 令和2年度 | AM2: 令和3年度 | AQ2: 中間目標 | AU2: 目標最終年度 | AY2: =COUNTA($G$4) -> 1
AQ3: - | AS3: 年度 | AU3: 5 | AW3: 年度 | AY3: =$AY$2 -> 1
G4: よろず支援拠点から提案された解決策を実行した事業者のうち、成果があった事業者の割合が65％になることを目指します。 | P4: よろず支援拠点から提案された解決策を実行した事業者のうち、成果があった事業者の割合 | Y4: 成果実績 | AB4: ％ | AE4: 62.7 | AI4: 63.8 | AM4: 64.1 | AQ4: - | AU4: - | AY4: =$AY$2 -> 1
Y5: 目標値 | AB5: ％ | AE5: 65 | AI5: 65 | AM5: 65 | AQ5: - | AU5: 65 | AY5: =$AY$2 -> 1
Y6: 達成度 | AB6: ％ | AE6: 96.5 | AI6: 98.2 | AM6: 98.6 | AQ6: - | AU6: - | AY6: =$AY$2 -> 1
A7: 根拠として用いた 統計・データ名 （出典） | G7: よろず支援拠点利用者満足度調査調査結果報告書 | AY7: =$AY$2 -> 1
AY8: =$AY$2 -> 1
A9: 成果目標及び 成果実績 （アウトカム） | G9: 定量的な成果目標 | P9: 成果指標 | AB9: 単位 | AE9: 令和元年度 | AI9: 令和2年度 | AM9: 令和3年度 | AQ9: 中間目標 | AU9: 目標最終年度 | AY9: =COUNTA($G$11) -> 0
AS10: 年度 | AW10: 年度 | AY10: =$AY$9 -> 0
Y11: 成果実績 | AY11: =$AY$9 -> 0
Y12: 目標値 | AY12: =$AY$9 -> 0
Y13: 達成度 | AB13: ％ | AY13: =$AY$9 -> 0
A14: 根拠として用いた 統計・データ名 （出典） | AY14: =$AY$9 -> 0
AY15: =$AY$9 -> 0
A16: 成果目標及び 成果実績 （アウトカム） | G16: 定量的な成果目標 | P16: 成果指標 | AB16: 単位 | AE16: 令和元年度 | AI16: 令和2年度 | AM16: 令和3年度 | AQ16: 中間目標 | AU16: 目標最終年度 | AY16: =COUNTA($G$18) -> 0
AS17: 年度 | AW17: 年度 | AY17: =$AY$16 -> 0
Y18: 成果実績 | AY18: =$AY$16 -> 0
Y19: 目標値 | AY19: =$AY$16 -> 0
Y20: 達成度 | AB20: ％ | AY20: =$AY$16 -> 0
A21: 根拠として用いた 統計・データ名 （出典） | AY21: =$AY$16 -> 0
AY22: =$AY$16 -> 0
A23: 成果目標及び 成果実績 （アウトカム） | G23: 定量的な成果目標 | P23: 成果指標 | AB23: 単位 | AE23: 令和元年度 | AI23: 令和2年度 | AM23: 令和3年度 | AQ23: 中間目標 | AU23: 目標最終年度 | AY23: =COUNTA($G$25) -> 0
AS24: 年度 | AW24: 年度 | AY24: =$AY$23 -> 0
Y25: 成果実績 | AY25: =$AY$23 -> 0
Y26: 目標値 | AY26: =$AY$23 -> 0
Y27: 達成度 | AB27: ％ | AY27: =$AY$23 -> 0
A28: 根拠として用いた 統計・データ名 （出典） | AY28: =$AY$23 -> 0
AY29: =$AY$23 -> 0
A30: 成果目標及び 成果実績 （アウトカム） | G30: 定量的な成果目標 | P30: 成果指標 | AB30: 単位 | AE30: 令和元年度 | AI30: 令和2年度 | AM30: 令和3年度 | AQ30: 中間目標 | AU30: 目標最終年度 | AY30: =COUNTA($G$32) -> 0
AS31: 年度 | AW31: 年度 | AY31: =$AY$30 -> 0
Y32: 成果実績 | AY32: =$AY$30 -> 0
Y33: 目標値 | AY33: =$AY$30 -> 0
Y34: 達成度 | AB34: ％ | AY34: =$AY$30 -> 0
A35: 根拠として用いた 統計・データ名 （出典） | AY35: =$AY$30 -> 0
AY36: =$AY$30 -> 0
A37: 成果目標及び 成果実績 （アウトカム） | G37: 定量的な成果目標 | P37: 成果指標 | AB37: 単位 | AE37: 令和元年度 | AI37: 令和2年度 | AM37: 令和3年度 | AQ37: 中間目標 | AU37: 目標最終年度 | AY37: =COUNTA($G$39) -> 0
AS38: 年度 | AW38: 年度 | AY38: =$AY$37 -> 0
Y39: 成果実績 | AY39: =$AY$37 -> 0
Y40: 目標値 | AY40: =$AY$37 -> 0
Y41: 達成度 | AB41: ％ | AY41: =$AY$37 -> 0
...
