Workbook
Name T開始年度: 入力規則等!$Y$2:$Y$95
Name T行政事業レビュー推進チームの所見: [1]入力規則等!$AC$2:$AC$6
Name T行政事業レビュー推進チームの所見: 入力規則等!$AC$2:$AC$6
Name T事業番号: [1]入力規則等!$U$2:$U$4
Name T事業番号: 入力規則等!$U$2:$U$4
Name T終了年度: [1]入力規則等!$AA$2:$AA$32
Name T終了年度: 入力規則等!$AA$2:$AA$32
Name T所見を踏まえた改善点: [1]入力規則等!$AE$2:$AE$7
Name T所見を踏まえた改善点: 入力規則等!$AE$2:$AE$7
Name T省庁: [1]入力規則等!$W$2:$W$25
Name T省庁: 入力規則等!$W$2:$W$25

Sheet 行政事業レビューシート
X2: 事業番号 | AD2: 2022 | AI2: - | AJ2: 国交 | AN2: - | AO2: 21 | AR2: - | AS2: 543 | AV2: =IF(AW2="","","-")
A3: 令和4年度行政事業レビューシート（試行版） | AI3: （ | AJ3: 国土交通省 | AX3: ）
A4: 事業名 | G4: 国際交通分野における途上国の経済活性化と我が国企業競争力強化のための支援 | Y4: 担当部局庁 | AE4: 総合政策局 | AQ4: 作成責任者
A5: 事業開始年度 | G5: 昭和48年度 | M5: 事業終了 （予定）年度 | S5: 終了予定なし | Y5: 担当課室 | AE5: 国際政策課 | AQ5: 課長 山下 雄史
A6: 会計区分 | G6: 一般会計
A7: 根拠法令 （具体的な 条項も記載） | G7: - | Y7: 関係する 計画、通知等 | AE7: -
A8: 主要政策・施策 | G8: - | Y8: 主要経費 | AE8: その他の事項経費
A9: 事業の目的 （3行程度以内） | G9: ・国土交通分野のインフラシステム海外展開を促進し、海外の旺盛なインフラ需要を取り込み我が国の持続的な経済成長を実現する。 ・これを通じて、新興国等との交通分野における国際協力、連携、交流等の強化による信頼関係の構築を通じ、諸課題の解決にも資する。
A10: 現状・課題 （現状把握・課題(可能な限り定量データを記載）） | G10: ・競合国企業のみならず台頭する新興国企業との競争激化、モノのコモディティ化等により、多くの分野で日本企業の競争力は受注実績に反して相対的に低下してきている。 ・一方で、既存インフラの老朽化に伴う維持管理更新ビジネス等、さらなる拡大が見込まれる世界のインフラニーズを十分に取りこめていない。 ・また、世界全体で社会の変革やデジタル化、脱炭素化が加速するものと見られ、従来とは異なる新たなインフラニーズに柔軟に応えていく必要がある。 ・国際情勢の複雑化やインフラ市場展開地域・分野の拡大により、投資リスクやサプライチェーンリスクなど、インフラ海外展開に影響を与えるリスクも多様化しており、安定的な日本企業の海外展開のため、一層の対応が求められている。
A11: 事業概要 （5行程度以内。別添可） | G11: ・「川上」から維持管理・運営事業までの継続的関与、デジタル・脱炭素技術の活用、我が国の技術や規格の国際標準化などを支援する観点から、案件発掘・形成調査、実証実験、相手国におけるセミナー、研修、国際機関への働きかけ等に取り組む。 ・トップセールスを展開するとともに、日ASEAN交通連携に基づく「日ASEAN交通大臣会合」、多国間・二国間協議等を開催し、政策協調や課題の解決を図る。
A12: 実施方法 | G12: 直接実施
A13: 予算額・ 執行額 （単位:百万円） （インプット） | P13: 令和元年度 | W13: 令和2年度 | AD13: 令和3年度 | AK13: 令和4年度 | AR13: 令和5年度要求
G14: 予算の状況 | I14: 当初予算 | P14: 1299 | W14: 1321 | AD14: 1401 | AK14: 1410 | AR14: 1631
I15: 補正予算 | P15: - | W15: - | AD15: 100 | AK15: -
I16: 前年度から繰越し | P16: - | W16: - | AD16: 18 | AK16: 99 | AR16: -
I17: 翌年度へ繰越し | P17: - | W17: -18 | AD17: -99 | AK17: -
I18: 予備費等 | P18: - | W18: - | AD18: - | AK18: -
I19: 計 | P19: =SUM(P14:V18) -> 1299 | W19: =SUM(W14:AC18) -> 1303 | AD19: =SUM(AD14:AJ18) -> 1420 | AK19: =SUM(AK14:AQ18) -> 1509 | AR19: =SUM(AR14:AX18) -> 1631
G20: 執行額 | P20: 1149 | W20: 955 | AD20: 1079
G21: 執行率（％） | P21: =IF(P19=0, "-", SUM(P20)/P19) -> 0.88452656 | W21: =IF(W19=0, "-", SUM(W20)/W19) -> 0.73292402 | AD21: =IF(AD19=0, "-", SUM(AD20)/AD19) -> 0.75985915
G22: 当初予算＋補正予算に対する執行額の割合（％） | P22: =IF(P20=0, "-", SUM(P20)/SUM(P14,P15)) -> 0.88452656 | W22: =IF(W20=0, "-", SUM(W20)/SUM(W14,W15)) -> 0.72293717 | AD22: =IF(AD20=0, "-", SUM(AD20)/SUM(AD14,AD15)) -> 0.7188541
A23: 令和4・5年度 予算内訳 （単位：百万円） | G23: 歳出予算目 | P23: 令和4年度当初予算 | W23: 令和5年度要求 | AD23: 主な増減理由
G24: 経済協力調査委託費 | P24: 1199 | W24: 1352 | AD24: ・重要政策推進枠：1,583 ・インフラシステムの海外展開について戦略的な取組を行うこと等による増
G25: 職員旅費 | P25: 96 | W25: 108
G26: 庁費 | P26: 96 | W26: 151
G27: 委員等旅費 | P27: 10 | W27: 10
G28: 政府開発援助委員等旅費 | P28: 5 | W28: 5
G29: その他 | P29: 4 | W29: 5
G30: 計 | P30: =AK14 -> 1410 | W30: =AR14 -> 1631
A31: 活動内容① （アクティビティ） | G31: インフラシステムの海外展開に係る案件の発掘・形成等に必要な調査を行う。
A33: 活動目標及び 活動実績① （アウトプット） | G33: 活動目標 | P33: 活動指標 | AB33: 単位 | AE33: 令和元年度 | AI33: 令和2年度 | AM33: 令和3年度 | AQ33: 4年度 活動見込 | AU33: 5年度 活動見込
G34: 案件の発掘・形成等に必要な調査を行い、我が国企業の受注につなげる。 | P34: 実施した調査の件数 | Y34: 活動実績 | AB34: 件 | AE34: 48 | AI34: 42 | AM34: 42 | AQ34: - | AU34: -
Y35: 当初見込み | AB35: 件 | AE35: 31 | AI35: 48 | AM35: 42 | AQ35: 42 | AU35: -
A36: 単位当たり コスト | G36: 算出根拠 | AB36: 単位 | AE36: 令和元年度 | AI36: 令和2年度 | AM36: 令和3年度 | AQ36: 4年度活動見込
G37: 経済協力調査委託費の執行額／実施した調査の件数 | Y37: 単位当たり コスト | AB37: 百万円 | AE37: 21 | AI37: 23 | AM37: 25 | AQ37: -
Y38: 計算式 | AB38: 百万円/件 | AE38: 998百万円/48件 | AI38: 960百万円/42件 | AM38: 1,044百万円/42件 | AQ38: -
A40: 成果目標及び 成果実績①-1 （初期アウトカム） | G40: 定量的な成果目標 | P40: 成果指標 | AB40: 単位 | AE40: 令和元年度 | AI40: 令和2年度 | AM40: 令和3年度 | AQ40: 中間目標 | AU40: 目標最終年度
AQ41: - | AS41: 年度 | AU41: 7 | AW41: 年度
G42: 令和7年度までに我が国インフラ企業（国土交通省分野）が国土交通省インフラシステム海外展開行動計画における今後注視すべき主要プロジェクトの入札に参加した回数を10回に引き上げる。 | P42: 我が国インフラ企業（国土交通省分野）が国土交通省インフラシステム海外展開行動計画における今後注視すべき主要プロジェクトの入札に参加した回数 | Y42: 成果実績 | AB42: 件 | AE42: - | AI42: - | AM42: - | AQ42: - | AU42: -
Y43: 目標値 | AB43: 件 | AE43: - | AI43: - | AM43: - | AQ43: - | AU43: 10
...

Sheet サマリー単
Y2: 事業番号 | AE2: 2022 | AJ2: - | AK2: =行政事業レビューシート!AJ2 -> 国交 | AO2: - | AP2: =行政事業レビューシート!AO2 -> 21 | AS2: - | AT2: =行政事業レビューシート!AS2 -> 543 | AW2: =IF(AX2="","","-")
A3: 令和4年度行政事業レビューシート（サマリー・試行版） | AJ3: （ | AK3: =行政事業レビューシート!AJ3 -> 国土交通省 | AY3: ）
A4: 事業名 | H4: =行政事業レビューシート!G4 -> 国際交通分野における途上国の経済活性化と我が国企業競争力強化のための支援 | Z4: 担当部局庁 | AF4: =行政事業レビューシート!AE4 -> 総合政策局 | AR4: 作成責任者
A5: 事業開始年度 | H5: =行政事業レビューシート!G5 -> 昭和48年度 | N5: 事業終了 （予定）年度 | T5: =行政事業レビューシート!S5 -> 終了予定なし | Z5: 担当課室 | AF5: =行政事業レビューシート!AE5 -> 国際政策課 | AR5: =行政事業レビューシート!AQ5 -> 課長 山下 雄史
A7: 事業の目的 （3行程度以内） | H7: =行政事業レビューシート!G9 -> ・国土交通分野のインフラシステム海外展開を促進し、海外の旺盛なインフラ需要を取り込み我が国の持続的な経済成長を実現する。 ・これを通じて、新興国等との交通分野における国際協力、連携、交流等の強化による信頼関係の構築を通じ、諸課題の解決にも資する。
A8: 現状・課題 （現状把握・課題） | H8: =行政事業レビューシート!G10 -> ・競合国企業のみならず台頭する新興国企業との競争激化、モノのコモディティ化等により、多くの分野で日本企業の競争力は受注実績に反して相対的に低下してきている。 ・一方で、既存インフラの老朽化に伴う維持管理更新ビジネス等、さらなる拡大が見込まれる世界のインフラニーズを十分に取りこめていない。 ・また、世界全体で社会の変革やデジタル化、脱炭素化が加速するものと見られ、従来とは異なる新たなインフラニーズに柔軟に応えていく必要がある。 ・国際情勢の複雑化やインフラ市場展開地域・分野の拡大により、投資リスクやサプライチェーンリスクなど、インフラ海外展開に影響を与えるリスクも多様化しており、安定的な日本企業の海外展開のため、一層の対応が求められている。
A9: 事業概要 （5行程度以内） | H9: =行政事業レビューシート!G11 -> ・「川上」から維持管理・運営事業までの継続的関与、デジタル・脱炭素技術の活用、我が国の技術や規格の国際標準化などを支援する観点から、案件発掘・形成調査、実証実験、相手国におけるセミナー、研修、国際機関への働きかけ等に取り組む。 ・トップセールスを展開するとともに、日ASEAN交通連携に基づく「日ASEAN交通大臣会合」、多国間・二国間協議等を開催し、政策協調や課題の解決を図る。
A11: 予算額・ 執行額 （単位:百万円） （インプット） | Q11: 令和元年度 | X11: 令和2年度 | AE11: 令和3年度 | AL11: 令和4年度 | AS11: 令和5年度要求
H12: 予算の状況 | J12: 当初予算 | Q12: =行政事業レビューシート!P14 -> 1299 | X12: =行政事業レビューシート!W14 -> 1321 | AE12: =行政事業レビューシート!AD14 -> 1401 | AL12: =行政事業レビューシート!AK14 -> 1410 | AS12: =行政事業レビューシート!AR14 -> 1631
J13: 補正予算 | Q13: =行政事業レビューシート!P15 -> - | X13: =行政事業レビューシート!W15 -> - | AE13: =行政事業レビューシート!AD15 -> 100 | AL13: =行政事業レビューシート!AK15 -> -
J14: 前年度から繰越し | Q14: =行政事業レビューシート!P16 -> - | X14: =行政事業レビューシート!W16 -> - | AE14: =行政事業レビューシート!AD16 -> 18 | AL14: =行政事業レビューシート!AK16 -> 99 | AS14: =行政事業レビューシート!AR16 -> -
J15: 翌年度へ繰越し | Q15: =行政事業レビューシート!P17 -> - | X15: =行政事業レビューシート!W17 -> -18 | AE15: =行政事業レビューシート!AD17 -> -99 | AL15: =行政事業レビューシート!AK17 -> -
J16: 予備費等 | Q16: =行政事業レビューシート!P18 -> - | X16: =行政事業レビューシート!W18 -> - | AE16: =行政事業レビューシート!AD18 -> - | AL16: =行政事業レビューシート!AK18 -> -
J17: 計 | Q17: =SUM(Q12:W16) -> 1299 | X17: =SUM(X12:AD16) -> 1303 | AE17: =SUM(AE12:AK16) -> 1420 | AL17: =SUM(AL12:AR16) -> 1509 | AS17: =SUM(AS12:AY16) -> 1631
H18: 執行額 | Q18: =行政事業レビューシート!P20 -> 1149 | X18: =行政事業レビューシート!W20 -> 955 | AE18: =行政事業レビューシート!AD20 -> 1079
H19: 執行率（％） | Q19: =IF(Q17=0, "-", SUM(Q18)/Q17) -> 0.88452656 | X19: =IF(X17=0, "-", SUM(X18)/X17) -> 0.73292402 | AE19: =IF(AE17=0, "-", SUM(AE18)/AE17) -> 0.75985915
H20: 当初予算＋補正予算に対する執行額の割合（％） | Q20: =IF(Q18=0, "-", SUM(Q18)/SUM(Q12,Q13)) -> 0.88452656 | X20: =IF(X18=0, "-", SUM(X18)/SUM(X12,X13)) -> 0.72293717 | AE20: =IF(AE18=0, "-", SUM(AE18)/SUM(AE12,AE13)) -> 0.7188541
A22: 活動内容 （アクティビティ） | H22: =行政事業レビューシート!G31 -> インフラシステムの海外展開に係る案件の発掘・形成等に必要な調査を行う。
A24: 活動目標及び 活動実績 （アウトプット） | H24: 活動目標 | Q24: 活動指標 | AC24: 単位 | AF24: 令和元年度 | AJ24: 令和2年度 | AN24: 令和3年度 | AR24: 4年度 活動見込 | AV24: 5年度 活動見込
H25: =行政事業レビューシート!G34 -> 案件の発掘・形成等に必要な調査を行い、我が国企業の受注につなげる。 | Q25: =行政事業レビューシート!P34 -> 実施した調査の件数 | Z25: 活動実績 | AC25: =行政事業レビューシート!AB34 -> 件 | AF25: =行政事業レビューシート!AE34 -> 48 | AJ25: =行政事業レビューシート!AI34 -> 42 | AN25: =行政事業レビューシート!AM34 -> 42 | AR25: =行政事業レビューシート!AQ34 -> - | AV25: =行政事業レビューシート!AU34 -> -
Z26: 当初見込み | AC26: =行政事業レビューシート!AB35 -> 件 | AF26: =行政事業レビューシート!AE35 -> 31 | AJ26: =行政事業レビューシート!AI35 -> 48 | AN26: =行政事業レビューシート!AM35 -> 42 | AR26: =行政事業レビューシート!AQ35 -> 42 | AV26: =行政事業レビューシート!AU35 -> -
A28: 成果目標及び 成果実績 （初期アウトカム） | H28: 定量的な成果目標 | Q28: 成果指標 | AC28: 単位 | AF28: 令和元年度 | AJ28: 令和2年度 | AN28: 令和3年度 | AR28: 中間目標 | AV28: 目標最終年度
AR29: =行政事業レビューシート!AQ41 -> - | AT29: 年度 | AV29: =行政事業レビューシート!AU41 -> 7 | AX29: 年度
H30: =行政事業レビューシート!G42 -> 令和7年度までに我が国インフラ企業（国土交通省分野）が国土交通省インフラシステム海外展開行動計画における今後注視すべき主要プロジェクトの入札に参加した回数を10回に引き上げる。 | Q30: =行政事業レビューシート!P42 -> 我が国インフラ企業（国土交通省分野）が国土交通省インフラシステム海外展開行動計画における今後注視すべき主要プロジェクトの入札に参加した回数 | Z30: 成果実績 | AC30: =行政事業レビューシート!AB42 -> 件 | AF30: =行政事業レビューシート!AE42 -> - | AJ30: =行政事業レビューシート!AI42 -> - | AN30: =行政事業レビューシート!AM42 -> - | AR30: =行政事業レビューシート!AQ42 -> - | AV30: =行政事業レビューシート!AU42 -> -
Z31: 目標値 | AC31: =行政事業レビューシート!AB43 -> 件 | AF31: =行政事業レビューシート!AE43 -> - | AJ31: =行政事業レビューシート!AI43 -> - | AN31: =行政事業レビューシート!AM43 -> - | AR31: =行政事業レビューシート!AQ43 -> - | AV31: =行政事業レビューシート!AU43 -> 10
Z32: 達成度 | AC32: ％ | AF32: =行政事業レビューシート!AE44 -> - | AJ32: =行政事業レビューシート!AI44 -> - | AN32: =行政事業レビューシート!AM44 -> - | AR32: =行政事業レビューシート!AQ44 -> - | AV32: =行政事業レビューシート!AU44 -> -
A33: 成果目標と成果指標の設定理由及び設定根拠①-1 | H33: =行政事業レビューシート!G45 -> ・国土交通分野における我が国企業の海外インフラシステム受注額を引き上げるためには、我が国企業が国土交通省分野のプロジェクト入札に参加することが必要不可欠であることから、本指標を設定。 ・新たに設定する成果指標に係る過去の成果実績については計測していないため、成果実績に近似すると想定される、国土交通省インフラシステム海外展開行動計画における今後注視すべき主要プロジェクトの受失注件数の過去実績を踏まえ、目標年において10件を目標値として設定。
A36: 成果目標及び 成果実績 （最終アウトカム） | H36: 定量的な成果目標 | Q36: 成果指標 | AC36: 単位 | AF36: 令和元年度 | AJ36: 令和2年度 | AN36: 令和3年度 | AR36: 中間目標 | AV36: 目標最終年度
AR37: =行政事業レビューシート!AQ49 -> - | AT37: 年度 | AV37: =行政事業レビューシート!AU49 -> 7 | AX37: 年度
H38: =行政事業レビューシート!G50 -> 令和７年度までに、国土交通分野（モビリティ・交通分野、建設・不動産分野）における我が国企業の海外インフラシステム受注額を約12兆円に引き上げる。 | Q38: =行政事業レビューシート!P50 -> 国土交通分野（モビリティ・交通分野、建設・不動産分野）における我が国企業の海外インフラシステム受注額 | Z38: 成果実績 | AC38: =行政事業レビューシート!AB50 -> 兆円 | AF38: =行政事業レビューシート!AE50 -> - | AJ38: =行政事業レビューシート!AI50 -> - | AN38: =行政事業レビューシート!AM50 -> - | AR38: =行政事業レビューシート!AQ50 -> - | AV38: =行政事業レビューシート!AU50 -> -
Z39: 目標値 | AC39: =行政事業レビューシート!AB51 -> 兆円 | AF39: =行政事業レビューシート!AE51 -> - | AJ39: =行政事業レビューシート!AI51 -> - | AN39: =行政事業レビューシート!AM51 -> - | AR39: =行政事業レビューシート!AQ51 -> - | AV39: =行政事業レビューシート!AU51 -> 12
Z40: 達成度 | AC40: ％ | AF40: =行政事業レビューシート!AE52 -> - | AJ40: =行政事業レビューシート!AI52 -> - | AN40: =行政事業レビューシート!AM52 -> - | AR40: =行政事業レビューシート!AQ52 -> - | AV40: =行政事業レビューシート!AU52 -> -
A41: 成果目標と成果指標の設定理由及び設定根拠①-2 | H41: =行政事業レビューシート!G53 -> インフラシステム海外展開戦略2025（R2.12.10）概要資料（第49回経協インフラ戦略会議資料）に記載の2025年将来推計値の「モビリティ・交通（8兆円）」及び「建設・都市開発（4兆円）」の分野に係る合計値12兆円を目標値として設定。
A43: 最終的に目指す姿 （インパクト） | H43: =行政事業レビューシート!G251 -> 海外の旺盛なインフラ需要を取り込み我が国の持続的な経済成長を実現するとともに、相手国の経済発展並びに相手国社会が抱える課題及び地球規模課題の解決に貢献する。

Sheet 入力規則等
A1: 主要施策名 | B1: 該当の有無 | F1: 会計区分 | G1: 該当の有無 | K1: 主要経費名 | L1: 該当の有無 | P1: 実施方法 | Q1: 該当の有無 | U1: 事業番号 | W1: 省庁 | Y1: 開始年度 | Z1: 開始年度西暦 | AA1: 終了（予定）年度 | AB1: 終了（予定）年度西暦 | AC1: 行政事業レビュー推進チームの所見 | AE1: 所見を踏まえた改善点/概算要求における反映状況 | AG1: 契約方式 | AI1: 一体改革分野 | AK1: ブロック名 | AP1: 契約方式その２
A2: 医療分野の研究開発関連 | C2: =IF(B2="","",A2) | D2: =IF(C2="","",IF(D1<>"",CONCATENATE(D1,"、",C2),C2)) | F2: 一般会計 | H2: =IF(G2="","",F2) | I2: =IF(H2="","",IF(I1<>"",CONCATENATE(I1,"、",H2),H2)) | K2: 社会保障 | M2: =IF(L2="","",K2) | N2: =IF(M2="","",IF(N1<>"",CONCATENATE(N1,"、",M2),M2)) | P2: 直接実施 | R2: =IF(Q2="","",P2) | S2: =IF(R2="","",IF(S1<>"",CONCATENATE(S1,"、",R2),R2)) | U2: 21 | W2: （選択してください） | Y2: 不明 | Z2: 不明 | AA2: 令和元年度 | AB2: 2019年度 | AC2: 廃止 | AE2: 廃止 | AG2: 一般競争契約 （最低価格） | AI2: - | AK2: A | AP2: 一般競争契約 （最低価格）
A3: 宇宙開発利用 | C3: =IF(B3="","",A3) | D3: =IF(C3="",D2,IF(D2<>"",CONCATENATE(D2,"、",C3),C3)) | F3: 交付税及び譲与税配付金特別会計 | H3: =IF(G3="","",F3) | I3: =IF(H3="",I2,IF(I2<>"",CONCATENATE(I2,"、",H3),H3)) | K3: 文教及び科学振興 | M3: =IF(L3="","",K3) | N3: =IF(M3="",N2,IF(N2<>"",CONCATENATE(N2,"、",M3),M3)) | P3: 委託・請負 | R3: =IF(Q3="","",P3) | S3: =IF(R3="",S2,IF(S2<>"",CONCATENATE(S2,"、",R3),R3)) | U3: 新22 | W3: 内閣官房 | Y3: 昭和元年度以前 | Z3: 1926年度以前 | AA3: 令和2年度 | AB3: 2020年度 | AC3: 事業全体の 抜本的な改善 | AE3: 縮減 | AG3: 一般競争契約 （総合評価） | AI3: 社会保障 | AK3: =CHAR(CODE(AK2)+1) -> B | AP3: 一般競争契約 （総合評価）
A4: 沖縄振興 | C4: =IF(B4="","",A4) | D4: =IF(C4="",D3,IF(D3<>"",CONCATENATE(D3,"、",C4),C4)) | F4: 地震再保険特別会計 | H4: =IF(G4="","",F4) | I4: =IF(H4="",I3,IF(I3<>"",CONCATENATE(I3,"、",H4),H4)) | K4: 恩給関係 | M4: =IF(L4="","",K4) | N4: =IF(M4="",N3,IF(N3<>"",CONCATENATE(N3,"、",M4),M4)) | P4: 補助 | R4: =IF(Q4="","",P4) | S4: =IF(R4="",S3,IF(S3<>"",CONCATENATE(S3,"、",R4),R4)) | U4: 新23 | W4: 内閣府 | Y4: 昭和2年度 | Z4: 1927年度 | AA4: 令和3年度 | AB4: 2021年度 | AC4: 事業内容の 一部改善 | AE4: 執行等改善 | AG4: 指名競争契約 （最低価格） | AI4: 社会資本整備等 | AK4: =CHAR(CODE(AK3)+1) -> C | AP4: 指名競争契約 （最低価格）
A5: 海洋政策 | C5: =IF(B5="","",A5) | D5: =IF(C5="",D4,IF(D4<>"",CONCATENATE(D4,"、",C5),C5)) | F5: 国債整理基金特別会計 | H5: =IF(G5="","",F5) | I5: =IF(H5="",I4,IF(I4<>"",CONCATENATE(I4,"、",H5),H5)) | K5: 防衛関係 | M5: =IF(L5="","",K5) | N5: =IF(M5="",N4,IF(N4<>"",CONCATENATE(N4,"、",M5),M5)) | P5: 負担 | R5: =IF(Q5="","",P5) | S5: =IF(R5="",S4,IF(S4<>"",CONCATENATE(S4,"、",R5),R5)) | W5: 個人情報保護委員会 | Y5: 昭和3年度 | Z5: 1928年度 | AA5: 令和4年度 | AB5: 2022年度 | AC5: 終了予定 | AE5: 年度内に改善を検討 | AG5: 指名競争契約 （総合評価） | AI5: 地方行財政改革 | AK5: =CHAR(CODE(AK4)+1) -> D | AP5: 指名競争契約 （総合評価）
A6: 科学技術・イノベーション | C6: =IF(B6="","",A6) | D6: =IF(C6="",D5,IF(D5<>"",CONCATENATE(D5,"、",C6),C6)) | F6: 外国為替資金特別会計 | H6: =IF(G6="","",F6) | I6: =IF(H6="",I5,IF(I5<>"",CONCATENATE(I5,"、",H6),H6)) | K6: 公共事業 | M6: =IF(L6="","",K6) | N6: =IF(M6="",N5,IF(N5<>"",CONCATENATE(N5,"、",M6),M6)) | P6: 交付 | R6: =IF(Q6="","",P6) | S6: =IF(R6="",S5,IF(S5<>"",CONCATENATE(S5,"、",R6),R6)) | U6: 事業番号その２ | W6: カジノ管理委員会 | Y6: 昭和4年度 | Z6: 1929年度 | AA6: 令和5年度 | AB6: 2023年度 | AC6: 現状通り | AE6: 予定通り終了 | AG6: 随意契約 （企画競争） | AI6: 次世代型行政サービスの早期実現 | AK6: =CHAR(CODE(AK5)+1) -> E | AP6: 随意契約 （企画競争）
A7: 観光立国 | C7: =IF(B7="","",A7) | D7: =IF(C7="",D6,IF(D6<>"",CONCATENATE(D6,"、",C7),C7)) | F7: 財政投融資特別会計財政融資資金勘定 | H7: =IF(G7="","",F7) | I7: =IF(H7="",I6,IF(I6<>"",CONCATENATE(I6,"、",H7),H7)) | K7: 経済協力 | M7: =IF(L7="","",K7) | N7: =IF(M7="",N6,IF(N6<>"",CONCATENATE(N6,"、",M7),M7)) | P7: 貸付 | R7: =IF(Q7="","",P7) | S7: =IF(R7="",S6,IF(S6<>"",CONCATENATE(S6,"、",R7),R7)) | W7: 公正取引委員会 | Y7: 昭和5年度 | Z7: 1930年度 | AA7: 令和6年度 | AB7: 2024年度 | AE7: 現状通り | AG7: 随意契約 （公募） | AI7: 文教・科学技術 | AK7: =CHAR(CODE(AK6)+1) -> F | AP7: 随意契約 （公募）
A8: 交通安全対策 | C8: =IF(B8="","",A8) | D8: =IF(C8="",D7,IF(D7<>"",CONCATENATE(D7,"、",C8),C8)) | F8: 財政投融資特別会計投資勘定 | H8: =IF(G8="","",F8) | I8: =IF(H8="",I7,IF(I7<>"",CONCATENATE(I7,"、",H8),H8)) | K8: 中小企業対策 | M8: =IF(L8="","",K8) | N8: =IF(M8="",N7,IF(N7<>"",CONCATENATE(N7,"、",M8),M8)) | P8: その他 | R8: =IF(Q8="","",P8) | S8: =IF(R8="",S7,IF(S7<>"",CONCATENATE(S7,"、",R8),R8)) | U8: 新02 | W8: 警察庁 | Y8: 昭和6年度 | Z8: 1931年度 | AA8: 令和7年度 | AB8: 2025年度 | AG8: 随意契約 （少額） | AI8: 歳出改革等に向けた取組の加速・拡大 | AK8: =CHAR(CODE(AK7)+1) -> G | AP8: 随意契約 （少額）
A9: 高齢社会対策 | C9: =IF(B9="","",A9) | D9: =IF(C9="",D8,IF(D8<>"",CONCATENATE(D8,"、",C9),C9)) | F9: 財政投融資特別会計特定国有財産整備勘定 | H9: =IF(G9="","",F9) | I9: =IF(H9="",I8,IF(I8<>"",CONCATENATE(I8,"、",H9),H9)) | K9: エネルギー対策 | M9: =IF(L9="","",K9) | N9: =IF(M9="",N8,IF(N8<>"",CONCATENATE(N8,"、",M9),M9)) | U9: 新03 | W9: 金融庁 | Y9: 昭和7年度 | Z9: 1932年度 | AA9: 令和8年度 | AB9: 2026年度 | AG9: 随意契約 （その他） | AK9: =CHAR(CODE(AK8)+1) -> H | AP9: 随意契約 （その他）
A10: 国土強靱化施策 | C10: =IF(B10="","",A10) | D10: =IF(C10="",D9,IF(D9<>"",CONCATENATE(D9,"、",C10),C10)) | F10: エネルギー対策特別会計エネルギー需給勘定 | H10: =IF(G10="","",F10) | I10: =IF(H10="",I9,IF(I9<>"",CONCATENATE(I9,"、",H10),H10)) | K10: 食料安定供給関係 | M10: =IF(L10="","",K10) | N10: =IF(M10="",N9,IF(N9<>"",CONCATENATE(N9,"、",M10),M10)) | P10: =S8 | W10: 消費者庁 | Y10: 昭和8年度 | Z10: 1933年度 | AA10: 令和9年度 | AB10: 2027年度 | AG10: 補助金等交付 | AK10: =CHAR(CODE(AK9)+1) -> I | AP10: その他
A11: 子ども・若者育成支援 | C11: =IF(B11="","",A11) | D11: =IF(C11="",D10,IF(D10<>"",CONCATENATE(D10,"、",C11),C11)) | F11: エネルギー対策特別会計電源開発促進勘定 | H11: =IF(G11="","",F11) | I11: =IF(H11="",I10,IF(I10<>"",CONCATENATE(I10,"、",H11),H11)) | K11: その他の事項経費 | M11: =IF(L11="","",K11) | N11: =IF(M11="",N10,IF(N10<>"",CONCATENATE(N10,"、",M11),M11)) | W11: デジタル庁 | Y11: 昭和9年度 | Z11: 1934年度 | AA11: 令和10年度 | AB11: 2028年度 | AG11: 運営費交付金交付 | AK11: =CHAR(CODE(AK10)+1) -> J
A12: 障害者施策 | C12: =IF(B12="","",A12) | D12: =IF(C12="",D11,IF(D11<>"",CONCATENATE(D11,"、",C12),C12)) | F12: エネルギー対策特別会計原子力損害賠償支援勘定 | H12: =IF(G12="","",F12) | I12: =IF(H12="",I11,IF(I11<>"",CONCATENATE(I11,"、",H12),H12)) | U12: 省庁(事業番号用) | W12: 復興庁 | Y12: 昭和10年度 | Z12: 1935年度 | AA12: 令和11年度 | AB12: 2029年度 | AG12: 国庫債務負担行為等 | AK12: =CHAR(CODE(AK11)+1) -> K
A13: 少子化社会対策 | C13: =IF(B13="","",A13) | D13: =IF(C13="",D12,IF(D12<>"",CONCATENATE(D12,"、",C13),C13)) | F13: 労働保険特別会計労災勘定 | H13: =IF(G13="","",F13) | I13: =IF(H13="",I12,IF(I12<>"",CONCATENATE(I12,"、",H13),H13)) | K13: =N11 | U13: （選択してください） | W13: 総務省 | Y13: 昭和11年度 | Z13: 1936年度 | AA13: 令和12年度 | AB13: 2030年度 | AG13: その他 | AK13: =CHAR(CODE(AK12)+1) -> L
A14: 食育推進 | C14: =IF(B14="","",A14) | D14: =IF(C14="",D13,IF(D13<>"",CONCATENATE(D13,"、",C14),C14)) | F14: 労働保険特別会計雇用勘定 | H14: =IF(G14="","",F14) | I14: =IF(H14="",I13,IF(I13<>"",CONCATENATE(I13,"、",H14),H14)) | U14: 官房 | W14: 法務省 | Y14: 昭和12年度 | Z14: 1937年度 | AA14: 令和13年度 | AB14: 2031年度 | AK14: =CHAR(CODE(AK13)+1) -> M
A15: 男女共同参画 | C15: =IF(B15="","",A15) | D15: =IF(C15="",D14,IF(D14<>"",CONCATENATE(D14,"、",C15),C15)) | F15: 労働保険特別会計徴収勘定 | H15: =IF(G15="","",F15) | I15: =IF(H15="",I14,IF(I14<>"",CONCATENATE(I14,"、",H15),H15)) | U15: 府 | W15: 外務省 | Y15: 昭和13年度 | Z15: 1938年度 | AA15: 令和14年度 | AB15: 2032年度 | AK15: =CHAR(CODE(AK14)+1) -> N
A16: 地球温暖化対策 | C16: =IF(B16="","",A16) | D16: =IF(C16="",D15,IF(D15<>"",CONCATENATE(D15,"、",C16),C16)) | F16: 年金特別会計基礎年金勘定 | H16: =IF(G16="","",F16) | I16: =IF(H16="",I15,IF(I15<>"",CONCATENATE(I15,"、",H16),H16)) | U16: 個情 | W16: 財務省 | Y16: 昭和14年度 | Z16: 1939年度 | AA16: 令和15年度 | AB16: 2033年度 | AK16: =CHAR(CODE(AK15)+1) -> O
A17: 犯罪被害者等施策 | C17: =IF(B17="","",A17) | D17: =IF(C17="",D16,IF(D16<>"",CONCATENATE(D16,"、",C17),C17)) | F17: 年金特別会計国民年金勘定 | H17: =IF(G17="","",F17) | I17: =IF(H17="",I16,IF(I16<>"",CONCATENATE(I16,"、",H17),H17)) | U17: カジノ | W17: 文部科学省 | Y17: 昭和15年度 | Z17: 1940年度 | AA17: 令和16年度 | AB17: 2034年度 | AK17: =CHAR(CODE(AK16)+1) -> P
A18: クールジャパン | C18: =IF(B18="","",A18) | D18: =IF(C18="",D17,IF(D17<>"",CONCATENATE(D17,"、",C18),C18)) | F18: 年金特別会計厚生年金勘定 | H18: =IF(G18="","",F18) | I18: =IF(H18="",I17,IF(I17<>"",CONCATENATE(I17,"、",H18),H18)) | U18: 公取 | W18: 厚生労働省 | Y18: 昭和16年度 | Z18: 1941年度 | AA18: 令和17年度 | AB18: 2035年度 | AK18: =CHAR(CODE(AK17)+1) -> Q
A19: 知的財産 | C19: =IF(B19="","",A19) | D19: =IF(C19="",D18,IF(D18<>"",CONCATENATE(D18,"、",C19),C19)) | F19: 年金特別会計健康勘定 | H19: =IF(G19="","",F19) | I19: =IF(H19="",I18,IF(I18<>"",CONCATENATE(I18,"、",H19),H19)) | U19: 警察 | W19: 農林水産省 | Y19: 昭和17年度 | Z19: 1942年度 | AA19: 令和18年度 | AB19: 2036年度 | AK19: =CHAR(CODE(AK18)+1) -> R
A20: 地方創生 | C20: =IF(B20="","",A20) | D20: =IF(C20="",D19,IF(D19<>"",CONCATENATE(D19,"、",C20),C20)) | F20: 年金特別会計子ども・子育て支援勘定 | H20: =IF(G20="","",F20) | I20: =IF(H20="",I19,IF(I19<>"",CONCATENATE(I19,"、",H20),H20)) | U20: 金融 | W20: 経済産業省 | Y20: 昭和18年度 | Z20: 1943年度 | AA20: 令和19年度 | AB20: 2037年度 | AK20: =CHAR(CODE(AK19)+1) -> S
A21: ＯＤＡ | C21: =IF(B21="","",A21) | D21: =IF(C21="",D20,IF(D20<>"",CONCATENATE(D20,"、",C21),C21)) | F21: 年金特別会計業務勘定 | H21: =IF(G21="","",F21) | I21: =IF(H21="",I20,IF(I20<>"",CONCATENATE(I20,"、",H21),H21)) | U21: 消費 | W21: 国土交通省 | Y21: 昭和19年度 | Z21: 1944年度 | AA21: 令和20年度 | AB21: 2038年度 | AK21: =CHAR(CODE(AK20)+1) -> T
A22: 2020年東京オリパラ | C22: =IF(B22="","",A22) | D22: =IF(C22="",D21,IF(D21<>"",CONCATENATE(D21,"、",C22),C22)) | F22: 食料安定供給特別会計農業経営安定勘定 | H22: =IF(G22="","",F22) | I22: =IF(H22="",I21,IF(I21<>"",CONCATENATE(I21,"、",H22),H22)) | U22: デジ | W22: 環境省 | Y22: 昭和20年度 | Z22: 1945年度 | AA22: 令和21年度 | AB22: 2039年度 | AK22: =CHAR(CODE(AK21)+1) -> U
A23: 統計改革 | C23: =IF(B23="","",A23) | D23: =IF(C23="",D22,IF(D22<>"",CONCATENATE(D22,"、",C23),C23)) | F23: 食料安定供給特別会計食糧管理勘定 | H23: =IF(G23="","",F23) | I23: =IF(H23="",I22,IF(I22<>"",CONCATENATE(I22,"、",H23),H23)) | U23: 復興 | W23: 原子力規制委員会 | Y23: 昭和21年度 | Z23: 1946年度 | AA23: 令和22年度 | AB23: 2040年度 | AK23: =CHAR(CODE(AK22)+1) -> V
F24: 食料安定供給特別会計農業再保険勘定 | H24: =IF(G24="","",F24) | I24: =IF(H24="",I23,IF(I23<>"",CONCATENATE(I23,"、",H24),H24)) | U24: 総務 | W24: 防衛省 | Y24: 昭和22年度 | Z24: 1947年度 | AA24: 令和23年度 | AB24: 2041年度 | AK24: =CHAR(CODE(AK23)+1) -> W
F25: 食料安定供給特別会計漁船再保険勘定 | H25: =IF(G25="","",F25) | I25: =IF(H25="",I24,IF(I24<>"",CONCATENATE(I24,"、",H25),H25)) | U25: 法務 | Y25: 昭和23年度 | Z25: 1948年度 | AA25: 令和24年度 | AB25: 2042年度 | AK25: =CHAR(CODE(AK24)+1) -> X
F26: 食料安定供給特別会計漁業共済保険勘定 | H26: =IF(G26="","",F26) | I26: =IF(H26="",I25,IF(I25<>"",CONCATENATE(I25,"、",H26),H26)) | U26: 外務 | Y26: 昭和24年度 | Z26: 1949年度 | AA26: 令和25年度 | AB26: 2043年度 | AK26: =CHAR(CODE(AK25)+1) -> Y
A27: =IF(D23="", "-", D23) -> - | F27: 食料安定供給特別会計業務勘定 | H27: =IF(G27="","",F27) | I27: =IF(H27="",I26,IF(I26<>"",CONCATENATE(I26,"、",H27),H27)) | U27: 財務 | Y27: 昭和25年度 | Z27: 1950年度 | AA27: 令和26年度 | AB27: 2044年度 | AK27: =CHAR(CODE(AK26)+1) -> Z
F28: 食料安定供給特別会計国営土地改良事業勘定 | H28: =IF(G28="","",F28) | I28: =IF(H28="",I27,IF(I27<>"",CONCATENATE(I27,"、",H28),H28)) | U28: 文科 | Y28: 昭和26年度 | Z28: 1951年度 | AA28: 令和27年度 | AB28: 2045年度 | AK28: a
F29: 国有林野事業債務管理特別会計 | H29: =IF(G29="","",F29) | I29: =IF(H29="",I28,IF(I28<>"",CONCATENATE(I28,"、",H29),H29)) | U29: 厚労 | Y29: 昭和27年度 | Z29: 1952年度 | AA29: 令和28年度 | AB29: 2046年度 | AK29: =CHAR(CODE(AK28)+1) -> b
F30: 貿易再保険特別会計 | H30: =IF(G30="","",F30) | I30: =IF(H30="",I29,IF(I29<>"",CONCATENATE(I29,"、",H30),H30)) | U30: 農水 | Y30: 昭和28年度 | Z30: 1953年度 | AA30: 令和29年度 | AB30: 2047年度 | AK30: =CHAR(CODE(AK29)+1) -> c
F31: 特許特別会計 | H31: =IF(G31="","",F31) | I31: =IF(H31="",I30,IF(I30<>"",CONCATENATE(I30,"、",H31),H31)) | U31: 経産 | Y31: 昭和29年度 | Z31: 1954年度 | AA31: 令和30年度以降 | AB31: 2048年度以降 | AK31: =CHAR(CODE(AK30)+1) -> d
F32: 自動車安全特別会計保障勘定 | H32: =IF(G32="","",F32) | I32: =IF(H32="",I31,IF(I31<>"",CONCATENATE(I31,"、",H32),H32)) | U32: 国交 | Y32: 昭和30年度 | Z32: 1955年度 | AA32: 終了予定なし | AB32: 終了予定なし | AK32: =CHAR(CODE(AK31)+1) -> e
F33: 自動車安全特別会計自動車検査登録勘定 | H33: =IF(G33="","",F33) | I33: =IF(H33="",I32,IF(I32<>"",CONCATENATE(I32,"、",H33),H33)) | U33: 環境 | Y33: 昭和31年度 | Z33: 1956年度 | AK33: =CHAR(CODE(AK32)+1) -> f
F34: 自動車安全特別会計自動車事故対策勘定 | H34: =IF(G34="","",F34) | I34: =IF(H34="",I33,IF(I33<>"",CONCATENATE(I33,"、",H34),H34)) | U34: 原規 | Y34: 昭和32年度 | Z34: 1957年度 | AK34: =CHAR(CODE(AK33)+1) -> g
F35: 自動車安全特別会計空港整備勘定 | H35: =IF(G35="","",F35) | I35: =IF(H35="",I34,IF(I34<>"",CONCATENATE(I34,"、",H35),H35)) | U35: 防衛 | Y35: 昭和33年度 | Z35: 1958年度 | AK35: =CHAR(CODE(AK34)+1) -> h
F36: 東日本大震災復興特別会計 | H36: =IF(G36="","",F36) | I36: =IF(H36="",I35,IF(I35<>"",CONCATENATE(I35,"、",H36),H36)) | Y36: 昭和34年度 | Z36: 1959年度 | AK36: =CHAR(CODE(AK35)+1) -> i
H37: =IF(G37="","",F37) | I37: =IF(H37="",I36,IF(I36<>"",CONCATENATE(I36,"、",H37),H37)) | Y37: 昭和35年度 | Z37: 1960年度 | AK37: =CHAR(CODE(AK36)+1) -> j
Y38: 昭和36年度 | Z38: 1961年度 | AK38: =CHAR(CODE(AK37)+1) -> k
F39: =I37 | U39: 事業番号その3 | Y39: 昭和37年度 | Z39: 1962年度 | AK39: =CHAR(CODE(AK38)+1) -> l
Y40: 昭和38年度 | Z40: 1963年度 | AK40: =CHAR(CODE(AK39)+1) -> m
...
